BEGIN:VCALENDAR
VERSION:2.0
PRODID:-//ShowNews - ECPv6.15.20//NONSGML v1.0//EN
CALSCALE:GREGORIAN
METHOD:PUBLISH
X-ORIGINAL-URL:https://shownews.co.nz
X-WR-CALDESC:Events for ShowNews
REFRESH-INTERVAL;VALUE=DURATION:PT1H
X-Robots-Tag:noindex
X-PUBLISHED-TTL:PT1H
BEGIN:VTIMEZONE
TZID:Pacific/Auckland
BEGIN:STANDARD
TZOFFSETFROM:+1300
TZOFFSETTO:+1200
TZNAME:NZST
DTSTART:20250405T140000
END:STANDARD
BEGIN:DAYLIGHT
TZOFFSETFROM:+1200
TZOFFSETTO:+1300
TZNAME:NZDT
DTSTART:20250927T140000
END:DAYLIGHT
BEGIN:STANDARD
TZOFFSETFROM:+1300
TZOFFSETTO:+1200
TZNAME:NZST
DTSTART:20260404T140000
END:STANDARD
BEGIN:DAYLIGHT
TZOFFSETFROM:+1200
TZOFFSETTO:+1300
TZNAME:NZDT
DTSTART:20260926T140000
END:DAYLIGHT
BEGIN:STANDARD
TZOFFSETFROM:+1300
TZOFFSETTO:+1200
TZNAME:NZST
DTSTART:20270403T140000
END:STANDARD
BEGIN:DAYLIGHT
TZOFFSETFROM:+1200
TZOFFSETTO:+1300
TZNAME:NZDT
DTSTART:20270925T140000
END:DAYLIGHT
END:VTIMEZONE
BEGIN:VEVENT
DTSTART;VALUE=DATE:20260116
DTEND;VALUE=DATE:20260117
DTSTAMP:20260423T084139
CREATED:20251204T225411Z
LAST-MODIFIED:20251204T232701Z
UID:29043-1768521600-1768607999@shownews.co.nz
SUMMARY:Doc Edge Pitch 2026 - Early bird Submission Deadline
DESCRIPTION:Submissions are now open for Doc Edge Pitch 2026 — New Zealand’s premier platform for developing and showcasing new documentary projects. \nDoc Edge is seeking compelling factual projects (shorts\, features\, and series) in development\, production or rough-cut stage. Selected teams will pitch to international and local decision makers and receive mentoring\, industry access\, and networking opportunities during the festival. \nOpen to both NZ and international filmmakers.\n📅 Early Bird deadline: 16 January 2026\n📍 Pitching takes place during Doc Edge Festival 2026\n🔗 Full details & application: https://docedge.nz/programme/industry/pitch/
URL:https://shownews.co.nz/event/doc-edge-pitch-early-bird-submission-deadline/
CATEGORIES:Deadline
ATTACH;FMTTYPE=image/png:https://shownews.co.nz/wp-content/uploads/2025/12/DOC-EDGE-PITCH-2026-1-1.png
ORGANIZER;CN="Doc Edge":MAILTO:info@docedge.nz
END:VEVENT
BEGIN:VEVENT
DTSTART;TZID=Pacific/Auckland:20260127T193000
DTEND;TZID=Pacific/Auckland:20260127T220000
DTSTAMP:20260423T084139
CREATED:20260104T222616Z
LAST-MODIFIED:20260104T222616Z
UID:29330-1769542200-1769551200@shownews.co.nz
SUMMARY:ShowNews Academy - The Man Who Shot Liberty Valance (1962)
DESCRIPTION:Directed by John Ford \nStarring Vera Miles\, James Stewart\, John Wayne\, Lee Marvin\, John Carradine \nCome along and hear Chris Short introduce John Ford’s Oscar-nominated western\, The Man Who Shot Liberty Valance\, starring John Wayne\, James Stewart and Lee Marvin as Liberty. \nWhy this film? Because the screening is a tribute to Lee Tamahori\, and the film was a favourite of his – in fact it was the last film he watched before passing away last month. The Academy will be donating the evening’s takings to the Vista Foundation. \n“Director Ford brings us to the lawless frontier village of Shinbone\, a town plagued by a larger-than-life nemesis\, Liberty Valance (Marvin). Stewart plays the bungling but charming big-city lawyer determined to rid Shinbone of Valance\, and he finds that he has an unlikely ally in the form of a rugged local rancher (Wayne). The two men also share the same love interest (Miles). But when the final showdown becomes inevitable\, one of the two will attempt to get the gunman . . . and the other one will wind up getting the gal.”
URL:https://shownews.co.nz/event/shownews-academy-the-man-who-shot-liberty-valance-1962/
LOCATION:Academy Cinema\, 44 Lorne St\, Auckland\, New Zealand
CATEGORIES:Networking,Screening
ATTACH;FMTTYPE=image/jpeg:https://shownews.co.nz/wp-content/uploads/2026/01/Poster.jpeg
END:VEVENT
BEGIN:VEVENT
DTSTART;VALUE=DATE:20260131
DTEND;VALUE=DATE:20260201
DTSTAMP:20260423T084139
CREATED:20251204T233237Z
LAST-MODIFIED:20251204T233237Z
UID:29069-1769817600-1769903999@shownews.co.nz
SUMMARY:Doc Edge Festival 2026 - Late Submission Deadline
DESCRIPTION:NZ filmmakers — submissions for Doc Edge Festival 2026 are now open!\nDoc Edge invites Aotearoa’s documentary community to submit films for the 21st edition of the festival. They are looking for powerful New Zealand stories across shorts and features\, as well as immersive\, from emerging voices to established creatives working in the factual and hybrid space. \nSelected films will screen as part of New Zealand’s Oscar®-qualifying documentary festival\, and top local awards include major cash prizes and Oscar® consideration for 2027.\n🏆 Best NZ Feature: $10\,000 cash prize + Oscar® consideration\n🏆 Best NZ Short: $2\,500 cash prize + Oscar® consideration \nSubmissions via FilmFreeway.\n📅 Late deadline: 31 January 2026\nBe part of Aotearoa’s leading documentary platform and showcase your work to local and international audiences.
URL:https://shownews.co.nz/event/doc-edge-festival-2026-late-submission-deadline/
CATEGORIES:Deadline,Festival
ATTACH;FMTTYPE=image/png:https://shownews.co.nz/wp-content/uploads/2025/12/Call-for-Submissions-Late.png
ORGANIZER;CN="Doc Edge":MAILTO:info@docedge.nz
END:VEVENT
END:VCALENDAR