BEGIN:VCALENDAR
VERSION:2.0
PRODID:-//ShowNews - ECPv6.15.20//NONSGML v1.0//EN
CALSCALE:GREGORIAN
METHOD:PUBLISH
X-WR-CALNAME:ShowNews
X-ORIGINAL-URL:https://shownews.co.nz
X-WR-CALDESC:Events for ShowNews
REFRESH-INTERVAL;VALUE=DURATION:PT1H
X-Robots-Tag:noindex
X-PUBLISHED-TTL:PT1H
BEGIN:VTIMEZONE
TZID:Pacific/Auckland
BEGIN:STANDARD
TZOFFSETFROM:+1300
TZOFFSETTO:+1200
TZNAME:NZST
DTSTART:20240406T140000
END:STANDARD
BEGIN:DAYLIGHT
TZOFFSETFROM:+1200
TZOFFSETTO:+1300
TZNAME:NZDT
DTSTART:20240928T140000
END:DAYLIGHT
BEGIN:STANDARD
TZOFFSETFROM:+1300
TZOFFSETTO:+1200
TZNAME:NZST
DTSTART:20250405T140000
END:STANDARD
BEGIN:DAYLIGHT
TZOFFSETFROM:+1200
TZOFFSETTO:+1300
TZNAME:NZDT
DTSTART:20250927T140000
END:DAYLIGHT
BEGIN:STANDARD
TZOFFSETFROM:+1300
TZOFFSETTO:+1200
TZNAME:NZST
DTSTART:20260404T140000
END:STANDARD
BEGIN:DAYLIGHT
TZOFFSETFROM:+1200
TZOFFSETTO:+1300
TZNAME:NZDT
DTSTART:20260926T140000
END:DAYLIGHT
END:VTIMEZONE
BEGIN:VEVENT
DTSTART;VALUE=DATE:20251111
DTEND;VALUE=DATE:20251117
DTSTAMP:20260422T211702
CREATED:20250712T211154Z
LAST-MODIFIED:20250712T211154Z
UID:26414-1762819200-1763337599@shownews.co.nz
SUMMARY:American Film Market
DESCRIPTION:Every November\, the entire global film industry converges for the American Film Market. \nAFM is the premier film acquisition\, development and networking event where more than $1 Billion in distribution and film financing deals are closed each year on completed films and those in every stage of development. More business-oriented than any other motion picture event\, thousands of professionals from all corners of our industry come together at AFM to develop\, showcase\, discover\, finance and license 1000s of independent films and projects destined for the world’s audiences. \nAt AFM\, participants can also attend The AFM Sessions – 30+ world class conferences and panels\, and connect with the independent film community’s decision makers\, all in one convenient location. \nAFM is the only sales market produced by the Independents for our industry.
URL:https://shownews.co.nz/event/american-film-market/
LOCATION:Los Angeles
CATEGORIES:Conference
ATTACH;FMTTYPE=image/jpeg:https://shownews.co.nz/wp-content/uploads/2025/07/AFM25-Marketing-Emails-Header-4-800x350-1.jpg
END:VEVENT
BEGIN:VEVENT
DTSTART;TZID=Pacific/Auckland:20251125T173000
DTEND;TZID=Pacific/Auckland:20251125T200000
DTSTAMP:20260422T211702
CREATED:20251113T015950Z
LAST-MODIFIED:20251113T015950Z
UID:28665-1764091800-1764100800@shownews.co.nz
SUMMARY:Ngā Aho Whakaari AGM
DESCRIPTION:Join us at our Annual General Meeting either in person or online. Following the AGM\, join us for kai and whakawhanaungatanga! \nKei aku nui\, kei aku rahi\, kei aku whakatamarahi ki te rangi\, nei rā te reo mihi a Ngā Aho Whakaari e pari atu nei ki te tai whakarunga\, ki te tai whakararo\, ki ngā paringa tai tangata huri i te motu\, tēnā koutou katoa. \nKaua e rangiruatia te hāpai o te hoe; e kore tō tātou waka e ū ki uta! \nDate: Thursday 27th November\, 5:30pm. \nLocation: The Bank\, Cnr of Tūārangi Road & Great North Road\, Grey Lynn\, Auckland.   \nOnline: AGM link will be sent to all RSVP’d members closer to the date.
URL:https://shownews.co.nz/event/nga-aho-whakaari-agm-2/
LOCATION:The Bank\, Cnr of Tūārangi Road & Great North Road\, Grey Lynn.\, Auckland
CATEGORIES:Misc
END:VEVENT
BEGIN:VEVENT
DTSTART;TZID=Pacific/Auckland:20251125T200000
DTEND;TZID=Pacific/Auckland:20251125T220000
DTSTAMP:20260422T211702
CREATED:20251106T082843Z
LAST-MODIFIED:20251106T082843Z
UID:28488-1764100800-1764108000@shownews.co.nz
SUMMARY:ShowNews Academy - Mood Indigo
DESCRIPTION:Directed by Michel Gondry \nStarring Romain Duris\, Omar Sy\, Audrey Tautou \nEach month ShowNews presents a film at Academy Cinemas picked by a special film industry guest. For November\, the chosen film is Michel Gondry’s epic romance MOOD INDIGO! \nWealthy\, inventive bachelor Colin endeavors to find a cure for his lover Chloe after she’s diagnosed with an unusual illness caused by a flower growing in her lungs.
URL:https://shownews.co.nz/event/shownews-academy-mood-indigo/
LOCATION:Academy Cinema\, 44 Lorne St\, Auckland\, New Zealand
CATEGORIES:Screening
ATTACH;FMTTYPE=image/jpeg:https://shownews.co.nz/wp-content/uploads/2025/11/vertical_447bff82-8431-4f6b-9139-043c48a1f884.jpg
END:VEVENT
END:VCALENDAR