BEGIN:VCALENDAR
VERSION:2.0
PRODID:-//ShowNews - ECPv6.15.20//NONSGML v1.0//EN
CALSCALE:GREGORIAN
METHOD:PUBLISH
X-ORIGINAL-URL:https://shownews.co.nz
X-WR-CALDESC:Events for ShowNews
REFRESH-INTERVAL;VALUE=DURATION:PT1H
X-Robots-Tag:noindex
X-PUBLISHED-TTL:PT1H
BEGIN:VTIMEZONE
TZID:Pacific/Auckland
BEGIN:STANDARD
TZOFFSETFROM:+1300
TZOFFSETTO:+1200
TZNAME:NZST
DTSTART:20240406T140000
END:STANDARD
BEGIN:DAYLIGHT
TZOFFSETFROM:+1200
TZOFFSETTO:+1300
TZNAME:NZDT
DTSTART:20240928T140000
END:DAYLIGHT
BEGIN:STANDARD
TZOFFSETFROM:+1300
TZOFFSETTO:+1200
TZNAME:NZST
DTSTART:20250405T140000
END:STANDARD
BEGIN:DAYLIGHT
TZOFFSETFROM:+1200
TZOFFSETTO:+1300
TZNAME:NZDT
DTSTART:20250927T140000
END:DAYLIGHT
BEGIN:STANDARD
TZOFFSETFROM:+1300
TZOFFSETTO:+1200
TZNAME:NZST
DTSTART:20260404T140000
END:STANDARD
BEGIN:DAYLIGHT
TZOFFSETFROM:+1200
TZOFFSETTO:+1300
TZNAME:NZDT
DTSTART:20260926T140000
END:DAYLIGHT
END:VTIMEZONE
BEGIN:VEVENT
DTSTART;VALUE=DATE:20250506
DTEND;VALUE=DATE:20250509
DTSTAMP:20260425T021942
CREATED:20250123T193912Z
LAST-MODIFIED:20250123T193912Z
UID:22701-1746489600-1746748799@shownews.co.nz
SUMMARY:SCREEN FOREVER 39
DESCRIPTION:AUSTRALIA’S PREMIER SCREEN INDUSTRY EVENT\nUniting the pillars of entertainment\, media and technology\, SCREEN FOREVER is one of the largest congregations of screen industry professionals in the Southern Hemisphere and is attended by The Who’s Who in Australian screen business – the leading Australian and international industry practitioners involved in all aspects of producing\, creating\, writing\, directing\, distributing and financing screen content across film\, television\, games\, interactive and online.
URL:https://shownews.co.nz/event/screen-forever-39/
LOCATION:The Star Event Centre Gold Coast\, Casino Drive\, Broadbeach\, Queensland
ATTACH;FMTTYPE=image/jpeg:https://shownews.co.nz/wp-content/uploads/2025/01/1280-x-720-2-copy-23.jpg
END:VEVENT
BEGIN:VEVENT
DTSTART;TZID=Pacific/Auckland:20250506T193000
DTEND;TZID=Pacific/Auckland:20250506T210000
DTSTAMP:20260425T021942
CREATED:20250501T044955Z
LAST-MODIFIED:20250501T044955Z
UID:25049-1746559800-1746565200@shownews.co.nz
SUMMARY:Creative Industry Insights from Lisa Hopp
DESCRIPTION:Script to Screen is pleased to share this exciting opportunity from across the ditch. Our partners at Compton are offering our community access to their ongoing series of free personal and professional development workshops. \nJoin them next week for their Q&A Masterclass series\, where Compton’s Abi Tabone will lead a discussion with Australian film and television writer and producer Lisa Hoppe. \nQ&A Masterclass is a chance to hear directly from leaders in the creative industries – exploring current challenges\, opportunities\, and what drives their work. Hear what they wish they’d known earlier in their careers\, and what big changes they hope to see in the sector. \nRegister here to join the Zoom session at 7:30 pm NZT on Tuesday May 6th\, or sign up for free with Compton to access recordings of past sessions\, including discussions with Jude McLaren\, former Talent Pathways Manager at Te Tumu Whakaata Taonga the New Zealand Film Commission\, Greenstone’s Rachel Antony\, and Madman Entertainment’s Paul Wiegard.
URL:https://shownews.co.nz/event/creative-industry-insights-from-lisa-hopp/
LOCATION:Zoom
CATEGORIES:Master Class
END:VEVENT
BEGIN:VEVENT
DTSTART;TZID=Pacific/Auckland:20250514T160000
DTEND;TZID=Pacific/Auckland:20250514T183000
DTSTAMP:20260425T021942
CREATED:20250506T001151Z
LAST-MODIFIED:20250506T001151Z
UID:25150-1747238400-1747247400@shownews.co.nz
SUMMARY:Te Puna Creative Hub - Open Studio
DESCRIPTION:Te Puna Creative Hub is having an open studio\, where you can learn more about what’s on offer and meet the people already making Te Puna Creative Hub home. \nWith Te Puna Creative Hub opening this month they would love industry input to shape its future direction. \n“At the heart of Te Puna Creative Innovation Quarter\, the hub is based at what used to be Whoa! Studios in Henderson. The goal is to create a world-class creative industries hub in west Auckland\, centred around the existing infrastructure already in place out there: Auckland Film Studios\, Corban Estate Arts Centre and the many screen industry businesses currently based in and around Keeling Road. \nTe Puna Creative Hub currently offers a small studio\, a multi-functional 159 seat digital theatre\, an operational restaurant\, a meeting room\, as well as short or long-term office spaces for hire. Current tenants include Crescendo Trust and Click Studios. \nThe long-term plan is to extend the hub beyond this building\, attracting other creative industry businesses to set up shop in the area in private and/or public partnerships. There are also opportunities for tertiary institutions and trainee programmes. \nSo far\, the project has been financed through Tātaki Auckland Unlimited\, with additional financing from the Auckland Council Māori Outcomes Fund. Click here for more information. \nFunding has been secured for the next five years. Any additional budget allocations will be decided on a year-by-year basis by Council.” \nWhat we think\, and what we ask for\, will help shape the future of both our industry and Te Puna.
URL:https://shownews.co.nz/event/te-puna-creative-hub-open-studio/
LOCATION:Te Puna Creative Hub\, 8/14 Henderson Valley Road\, Te Kōpua Henderson\,\, Tāmaki Makaurau Auckland
ATTACH;FMTTYPE=image/jpeg:https://shownews.co.nz/wp-content/uploads/2025/05/Te-Puna-Creative-Hub-entrance-front.jpg
END:VEVENT
BEGIN:VEVENT
DTSTART;TZID=Pacific/Auckland:20250520T200000
DTEND;TZID=Pacific/Auckland:20250520T220000
DTSTAMP:20260425T021942
CREATED:20250506T101052Z
LAST-MODIFIED:20250506T101052Z
UID:25160-1747771200-1747778400@shownews.co.nz
SUMMARY:ShowNews Academy - Dead Men Don't Wear Plaid
DESCRIPTION:Each month ShowNews presents a film at Academy Cinemas picked by a special film industry guest. For May\, Neil Stitchbury has chosen the film noir spoof comedy DEAD MEN DON’T WEAR PLAID starring Steve Martin! This was the last film for both famed costume designer Edith Head and composer Miklós Rózsa. \nTickets only $10!\nHappy Hour drinks from 7:00pm.\nScreening 8:15pm. \n‘When a famous cheese maker dies in a freak car crash\, his daughter (Rachel Ward) is convinced that it was no accident. She thinks he was murdered for his top-secret cheese recipes. To prove her theory\, she hires detective Roy Reardon (Steve Martin). His quest to find out what happened to the missing man brings him face-to-face with movie legends\, actors such as Humphrey Bogart\, Alan Ladd and Burt Lancaster\, via footage from classic film noir and crime films.’
URL:https://shownews.co.nz/event/shownews-academy-dead-men-dont-wear-plaid/
LOCATION:Academy Cinema\, 44 Lorne St\, Auckland\, New Zealand
CATEGORIES:Screening
ATTACH;FMTTYPE=image/jpeg:https://shownews.co.nz/wp-content/uploads/2025/05/vertical_86a05cb1-1428-4488-bee8-aaf3755696aa.jpg
END:VEVENT
END:VCALENDAR