BEGIN:VCALENDAR
VERSION:2.0
PRODID:-//ShowNews - ECPv6.15.20//NONSGML v1.0//EN
CALSCALE:GREGORIAN
METHOD:PUBLISH
X-WR-CALNAME:ShowNews
X-ORIGINAL-URL:https://shownews.co.nz
X-WR-CALDESC:Events for ShowNews
REFRESH-INTERVAL;VALUE=DURATION:PT1H
X-Robots-Tag:noindex
X-PUBLISHED-TTL:PT1H
BEGIN:VTIMEZONE
TZID:Pacific/Auckland
BEGIN:STANDARD
TZOFFSETFROM:+1300
TZOFFSETTO:+1200
TZNAME:NZST
DTSTART:20220402T140000
END:STANDARD
BEGIN:DAYLIGHT
TZOFFSETFROM:+1200
TZOFFSETTO:+1300
TZNAME:NZDT
DTSTART:20220924T140000
END:DAYLIGHT
BEGIN:STANDARD
TZOFFSETFROM:+1300
TZOFFSETTO:+1200
TZNAME:NZST
DTSTART:20230401T140000
END:STANDARD
BEGIN:DAYLIGHT
TZOFFSETFROM:+1200
TZOFFSETTO:+1300
TZNAME:NZDT
DTSTART:20230923T140000
END:DAYLIGHT
BEGIN:STANDARD
TZOFFSETFROM:+1300
TZOFFSETTO:+1200
TZNAME:NZST
DTSTART:20240406T140000
END:STANDARD
BEGIN:DAYLIGHT
TZOFFSETFROM:+1200
TZOFFSETTO:+1300
TZNAME:NZDT
DTSTART:20240928T140000
END:DAYLIGHT
END:VTIMEZONE
BEGIN:VEVENT
DTSTART;TZID=Pacific/Auckland:20231019T110000
DTEND;TZID=Pacific/Auckland:20231019T163000
DTSTAMP:20260425T063956
CREATED:20231011T015358Z
LAST-MODIFIED:20231011T015358Z
UID:11615-1697713200-1697733000@shownews.co.nz
SUMMARY:Sky Originals Roadshow
DESCRIPTION:We are excited to welcome Thomas Robins & Nick Ward from Sky Originals Sky NZ to Ōtautahi Christchurch on the 19th October\, for local content creators. \nThomas Robins is Head of Sky Originals/Head of Scripted Commissioning & Nick Ward is Head of Non-Scripted Commissioning. They bring over two decades of industry experience and are proud to support the best creatives from New Zealand. \nSky Creatives look for brave\, bold and intrinsically New Zealand stories from a wide range of creatives and are keen to support new and established voices\, to bring their stories to life.
URL:https://shownews.co.nz/event/sky-originals-roadshow/
END:VEVENT
BEGIN:VEVENT
DTSTART;TZID=Pacific/Auckland:20231017T170000
DTEND;TZID=Pacific/Auckland:20231017T200000
DTSTAMP:20260425T063956
CREATED:20231010T215445Z
LAST-MODIFIED:20231010T215445Z
UID:11527-1697562000-1697572800@shownews.co.nz
SUMMARY:Ms Information Q+A screening
DESCRIPTION:Join us for our Film Talk screening of MS. INFORMATION\, the new feature from documentary filmmaker Gwen Isaac\, followed by a Q&A with Gwen herself!
URL:https://shownews.co.nz/event/ms-information-qa-screening/
LOCATION:Rialto Cinemas\, Auckland\, New Zealand
CATEGORIES:Screening
ATTACH;FMTTYPE=image/jpeg:https://shownews.co.nz/wp-content/uploads/2023/10/ms-information-q-a-screening-3NOa1jgPbwg.jpg
END:VEVENT
BEGIN:VEVENT
DTSTART;TZID=Pacific/Auckland:20231017T170000
DTEND;TZID=Pacific/Auckland:20231017T180000
DTSTAMP:20260425T063956
CREATED:20231010T220040Z
LAST-MODIFIED:20231010T220040Z
UID:11531-1697562000-1697565600@shownews.co.nz
SUMMARY:Kōpere Hou – Fresh Shorts webinar
DESCRIPTION:Join Script to Screen and the New Zealand Film Commission for a live webinar on Tuesday 17th October 5:00-6:00 pm. You will hear about what’s needed to apply for Whiringa Tauatahi – Stage One of Kōpere Hou – Fresh Shorts and get a complete overview of the application process and the selection criteria. \nRegister for the webinar in advance and submit a question to help shape the discussion. There will also be an opportunity to ask questions during the webinar or you can email webinar questions to communications@script-to-screen.co.nz. \n 
URL:https://shownews.co.nz/event/kopere-hou-fresh-shorts-webinar/
LOCATION:online
CATEGORIES:Webinar
END:VEVENT
BEGIN:VEVENT
DTSTART;TZID=Pacific/Auckland:20231017T103000
DTEND;TZID=Pacific/Auckland:20231031T120000
DTSTAMP:20260425T063956
CREATED:20231011T014919Z
LAST-MODIFIED:20231011T014919Z
UID:11610-1697538600-1698753600@shownews.co.nz
SUMMARY:Writing for Television Masterclass
DESCRIPTION:Join NYWIFT for our inaugural Masterclass Series: Writing for Television with critically-acclaimed writer Amy Fox. \nPowerful television can shape hearts\, change minds\, and expand worldviews with memorable characters and riveting plots. You have your story idea – but how can you translate it to the screen? This series of three masterclasses focuses on building the foundation for you to write an original narrative TV pilot. \nWriters at all levels will walk away from this course with marketable skills and renewed passion\, from those writing their first script to more experienced writers looking to dive into their next project and refresh their approach.
URL:https://shownews.co.nz/event/writing-for-television-masterclass/
CATEGORIES:Master Class
END:VEVENT
BEGIN:VEVENT
DTSTART;VALUE=DATE:20231017
DTEND;VALUE=DATE:20231106
DTSTAMP:20260425T063956
CREATED:20231011T014540Z
LAST-MODIFIED:20231011T014540Z
UID:11608-1697500800-1699228799@shownews.co.nz
SUMMARY:British & Irish Film Festival
DESCRIPTION:The festival runs 17 October – 5 November across several venues. Visit the website for full info.
URL:https://shownews.co.nz/event/british-irish-film-festival/
CATEGORIES:Festival
END:VEVENT
BEGIN:VEVENT
DTSTART;VALUE=DATE:20231015
DTEND;VALUE=DATE:20231023
DTSTAMP:20260425T063956
CREATED:20230923T065249Z
LAST-MODIFIED:20230923T065249Z
UID:10279-1697328000-1698019199@shownews.co.nz
SUMMARY:SXSW Sydney
DESCRIPTION:– From live showcases to massive parties – experience the worlds of Music\, Screen and Games all around the city.\n– See the next generation of tech\, innovation and games disrupters.\n– Connect with inspiring speakers\, panelists and mentors.
URL:https://shownews.co.nz/event/sxsw-sydney/
CATEGORIES:Conference
ATTACH;FMTTYPE=image/jpeg:https://shownews.co.nz/wp-content/uploads/2023/09/ogDefault-sxswSydney-1.jpg
END:VEVENT
BEGIN:VEVENT
DTSTART;VALUE=DATE:20231014
DTEND;VALUE=DATE:20231015
DTSTAMP:20260425T063956
CREATED:20231011T013625Z
LAST-MODIFIED:20231011T013625Z
UID:11540-1697241600-1697327999@shownews.co.nz
SUMMARY:Gaylene Preston writing workshop: application deadline
DESCRIPTION:Queenstown Writers Festival invites you to apply for a three-hour screenwriting workshop with acclaimed filmmaker and writer Dame Gaylene Preston. \nDame Gaylene is a leading light of New Zealand cinema. She is both director and screenwriter of Ruby and Rata and Bread and Roses\, and the director of the documentaries War Stories Our Mothers Never Told Us and My Year with Helen. She is deeply committed to telling New Zealand stories for New Zealand audiences – and equally dedicated to helping upcoming filmmakers realise their own vision. \nThis interactive workshop will investigate the space between the page and the screen and help you translate the idea in your head into a pitch-worthy document. Established and aspiring filmmakers in all genres are welcome\, from documentary to drama and everything in between.
URL:https://shownews.co.nz/event/gaylene-preston-writing-workshop-application-deadline/
CATEGORIES:Workshop
END:VEVENT
BEGIN:VEVENT
DTSTART;TZID=Pacific/Auckland:20231011T180000
DTEND;TZID=Pacific/Auckland:20231011T210000
DTSTAMP:20260425T063956
CREATED:20230925T065323Z
LAST-MODIFIED:20230925T065323Z
UID:10620-1697047200-1697058000@shownews.co.nz
SUMMARY:The Filmmaker as Shooting Director
DESCRIPTION:There are many reasons these days why a filmmaker may find themselves shooting their own footage: think Dame Gaylene Preston following Helen Clark at the United Nations\, Briar March for Dame Valerie Adams: More Than Gold or Rachel Currie on the TVNZ docuseries Unbreakable. \nCome along to this event\, bring your camera and join our panel of Dame Gaylene\, Briar and Rachel as they discuss the pros and cons of directing as the camera person with broadcast quality in mind. This is an interactive workshop. FUN and instructive!!! Clips will be screened!
URL:https://shownews.co.nz/event/the-filmmaker-as-shooting-director/
LOCATION:Click Studios\, 525 Rosebank Rd\, Avondale\, Auckland
CATEGORIES:Industry Talk
ORGANIZER;CN="WIFT":MAILTO:office@wiftnz.org.nz
END:VEVENT
BEGIN:VEVENT
DTSTART;TZID=Pacific/Auckland:20231011T080000
DTEND;TZID=Pacific/Auckland:20231011T170000
DTSTAMP:20260425T063956
CREATED:20231011T021529Z
LAST-MODIFIED:20231011T021529Z
UID:11631-1697011200-1697043600@shownews.co.nz
SUMMARY:Māoriland Film Festival: final deadline
DESCRIPTION:Māoriland exists to uplift the perspective and stories of Indigenous peoples. \nMāoriland considers film\, video\, digital and interactive media work and artwork (all mediums) made by Indigenous creatives. \nTo be eligible for your work to be presented or displayed by Māoriland\, an Indigenous creative must be credited in a key role such as director\, producer or screenwriter. \nThe 11th Māoriland Film Festival – MFF2024 will take place from 20-24 March\, 2024.
URL:https://shownews.co.nz/event/maoriland-film-festival-final-deadline/
CATEGORIES:Festival
END:VEVENT
BEGIN:VEVENT
DTSTART;TZID=Pacific/Auckland:20231011T080000
DTEND;TZID=Pacific/Auckland:20231011T170000
DTSTAMP:20260425T063956
CREATED:20231011T015653Z
LAST-MODIFIED:20231011T015653Z
UID:11617-1697011200-1697043600@shownews.co.nz
SUMMARY:Someday Stories: application deadline
DESCRIPTION:This Request for Proposals (RFP) invites; \n\nfunding applications from emerging young filmmakers under 29 years old in Aotearoa to make their first funded short film with urgent themes that matter to them\n\nAND / OR \n\napplications from aspiring young filmmakers in Aotearoa to take on an unpaid New Filmmaker Placement to shadow one of the commissioned Someday Stories productions\n\nYou are welcome to apply for both of these. \nThe deadline for Someday Stories 8 applications is 5pm\, Friday 20th October 2023
URL:https://shownews.co.nz/event/someday-stories-application-deadline/
CATEGORIES:Training
END:VEVENT
BEGIN:VEVENT
DTSTART;TZID=Pacific/Auckland:20231011T080000
DTEND;TZID=Pacific/Auckland:20231011T170000
DTSTAMP:20260425T063956
CREATED:20231011T015205Z
LAST-MODIFIED:20231011T015205Z
UID:11612-1697011200-1697043600@shownews.co.nz
SUMMARY:MDGNZ Coffee Catchup
DESCRIPTION:Pop in on your way to work and grab a coffee with some fellow motion practitioners.
URL:https://shownews.co.nz/event/mdgnz-coffee-catchup/
LOCATION:Bestie Cafe\, St Kevin’s Arcade. K’ Road\, Auckland
END:VEVENT
BEGIN:VEVENT
DTSTART;TZID=Pacific/Auckland:20231008T120000
DTEND;TZID=Pacific/Auckland:20231008T210000
DTSTAMP:20260425T063956
CREATED:20230924T052434Z
LAST-MODIFIED:20230924T052434Z
UID:10309-1696766400-1696798800@shownews.co.nz
SUMMARY:Show Me Shorts Industry Day
DESCRIPTION:Calling short film makers\, students and anyone interested in learning more about what goes on behind the scenes in making movies. Join us for a full day of interactive professional development workshops\, filmmaker talks\, networking and screenings of short films. Presenters will be available for informal meetings throughout the day. Tickets provide entry to all of the following events\, plus access to the garden bar and networking cafe.
URL:https://shownews.co.nz/event/show-me-shorts-industry-day/
LOCATION:The Hollywood Avondale\, 20 Saint Georges Road\, Auckland
CATEGORIES:Master Class
END:VEVENT
BEGIN:VEVENT
DTSTART;VALUE=DATE:20231006
DTEND;VALUE=DATE:20231030
DTSTAMP:20260425T063956
CREATED:20230924T043536Z
LAST-MODIFIED:20230924T043536Z
UID:10306-1696550400-1698623999@shownews.co.nz
SUMMARY:Show Me Shorts Film Festival
DESCRIPTION:Show Me Shorts is Aotearoa New Zealand’s leading international short film festival. Our mission is to connect New Zealand audiences with short films and share New Zealand short films with the world. We celebrate the short film art form and champion short film makers!
URL:https://shownews.co.nz/event/show-me-shorts-film-festival/
CATEGORIES:Festival
ATTACH;FMTTYPE=image/jpeg:https://shownews.co.nz/wp-content/uploads/2023/09/Show-Me-Shorts-2023-NZ-key-image.jpg
END:VEVENT
BEGIN:VEVENT
DTSTART;TZID=Pacific/Auckland:20230926T190000
DTEND;TZID=Pacific/Auckland:20230926T213000
DTSTAMP:20260425T063956
CREATED:20230923T033846Z
LAST-MODIFIED:20230923T033846Z
UID:10263-1695754800-1695763800@shownews.co.nz
SUMMARY:ShowNews Academy - Wings Of Desire
DESCRIPTION:Each month we have a film picked by a special film industry guest. This month we have the legendary German director Wim Wender’s poetic ode to Berlin\, WINGS OF DESIRE! Specially chosen by production designer Ashley Turner.\nTickets only $10!\nHappy Hour drinks from 7pm.\nScreening 8:15pm.\n127 mins | Rated PG (Coarse language) | Classic\nDirected by Wim Wenders | Starring Bruno Ganz\, Solveig Dommartin\, Otto Sander\, Curt Bois\, Peter Falk\nWINGS OF DESIRE is one of cinema’s loveliest city symphonies. Bruno Ganz is Damiel\, an angel perched atop buildings high over Berlin who can hear the thoughts—fears\, hopes\, dreams—of all the people living below. But when he falls in love with a beautiful trapeze artist\, he is willing to give up his immortality and come back to earth to be with her. Made not long before the fall of the Berlin Wall\, this stunning tapestry of sounds and images\, shot in black and white and color by the legendary Henri Alekan\, forever made the name of director Wim Wenders synonymous with film art.
URL:https://shownews.co.nz/event/shownews-academy-wings-of-desire/
LOCATION:Academy Cinema\, 44 Lorne St\, Auckland\, New Zealand
CATEGORIES:Screening
ATTACH;FMTTYPE=image/jpeg:https://shownews.co.nz/wp-content/uploads/2023/09/376248154_695672952594221_3923580020609525608_n.jpg
END:VEVENT
END:VCALENDAR