BEGIN:VCALENDAR
VERSION:2.0
PRODID:-//ShowNews - ECPv6.15.20//NONSGML v1.0//EN
CALSCALE:GREGORIAN
METHOD:PUBLISH
X-ORIGINAL-URL:https://shownews.co.nz
X-WR-CALDESC:Events for ShowNews
REFRESH-INTERVAL;VALUE=DURATION:PT1H
X-Robots-Tag:noindex
X-PUBLISHED-TTL:PT1H
BEGIN:VTIMEZONE
TZID:Pacific/Auckland
BEGIN:STANDARD
TZOFFSETFROM:+1300
TZOFFSETTO:+1200
TZNAME:NZST
DTSTART:20250405T140000
END:STANDARD
BEGIN:DAYLIGHT
TZOFFSETFROM:+1200
TZOFFSETTO:+1300
TZNAME:NZDT
DTSTART:20250927T140000
END:DAYLIGHT
BEGIN:STANDARD
TZOFFSETFROM:+1300
TZOFFSETTO:+1200
TZNAME:NZST
DTSTART:20260404T140000
END:STANDARD
BEGIN:DAYLIGHT
TZOFFSETFROM:+1200
TZOFFSETTO:+1300
TZNAME:NZDT
DTSTART:20260926T140000
END:DAYLIGHT
BEGIN:STANDARD
TZOFFSETFROM:+1300
TZOFFSETTO:+1200
TZNAME:NZST
DTSTART:20270403T140000
END:STANDARD
BEGIN:DAYLIGHT
TZOFFSETFROM:+1200
TZOFFSETTO:+1300
TZNAME:NZDT
DTSTART:20270925T140000
END:DAYLIGHT
END:VTIMEZONE
BEGIN:VEVENT
DTSTART;TZID=Pacific/Auckland:20260731T080000
DTEND;TZID=Pacific/Auckland:20260802T170000
DTSTAMP:20260423T211338
CREATED:20260225T210810Z
LAST-MODIFIED:20260225T210810Z
UID:31375-1785484800-1785690000@shownews.co.nz
SUMMARY:VF 48Hours 2026
DESCRIPTION:The Vista Foundation 48Hours is NZ’s largest guerrilla filmmaking competition! There is nothing quite like it. Over 10\,000 short films have been produced in the 48Hours competition over the 22 years it has run. \nOver 500 teams of filmmakers enter each year with just 48 hours to write\, shoot and cut a film with a given genre and a collection of assigned elements. Filmmakers compete for awards in their regions\, culminating in a grand final event where the national winner takes the title of Grand National Champion. \nThe Vista Foundation 48Hours aims to create a dynamic event that provides opportunities for emerging and established filmmakers to make short films in an environment that encourages innovation\, creative risk-taking\, and builds long term collaborations and community. We offer a screening opportunity and an enthusiastic inbuilt audience within the competition for teams to showcase their talent.
URL:https://shownews.co.nz/event/vf-48hours-2026/
CATEGORIES:Deadline
ATTACH;FMTTYPE=image/jpeg:https://shownews.co.nz/wp-content/uploads/2026/02/ShowNewsArticleImages.001-21.jpeg
END:VEVENT
END:VCALENDAR