BEGIN:VCALENDAR
VERSION:2.0
PRODID:-//ShowNews - ECPv6.15.20//NONSGML v1.0//EN
CALSCALE:GREGORIAN
METHOD:PUBLISH
X-ORIGINAL-URL:https://shownews.co.nz
X-WR-CALDESC:Events for ShowNews
REFRESH-INTERVAL;VALUE=DURATION:PT1H
X-Robots-Tag:noindex
X-PUBLISHED-TTL:PT1H
BEGIN:VTIMEZONE
TZID:Pacific/Auckland
BEGIN:STANDARD
TZOFFSETFROM:+1300
TZOFFSETTO:+1200
TZNAME:NZST
DTSTART:20250405T140000
END:STANDARD
BEGIN:DAYLIGHT
TZOFFSETFROM:+1200
TZOFFSETTO:+1300
TZNAME:NZDT
DTSTART:20250927T140000
END:DAYLIGHT
BEGIN:STANDARD
TZOFFSETFROM:+1300
TZOFFSETTO:+1200
TZNAME:NZST
DTSTART:20260404T140000
END:STANDARD
BEGIN:DAYLIGHT
TZOFFSETFROM:+1200
TZOFFSETTO:+1300
TZNAME:NZDT
DTSTART:20260926T140000
END:DAYLIGHT
BEGIN:STANDARD
TZOFFSETFROM:+1300
TZOFFSETTO:+1200
TZNAME:NZST
DTSTART:20270403T140000
END:STANDARD
BEGIN:DAYLIGHT
TZOFFSETFROM:+1200
TZOFFSETTO:+1300
TZNAME:NZDT
DTSTART:20270925T140000
END:DAYLIGHT
END:VTIMEZONE
BEGIN:VEVENT
DTSTART;VALUE=DATE:20260329
DTEND;VALUE=DATE:20260330
DTSTAMP:20260423T095304
CREATED:20251204T232454Z
LAST-MODIFIED:20251204T232621Z
UID:29057-1774742400-1774828799@shownews.co.nz
SUMMARY:Doc Edge Pitch 2026 – Late Submission Deadline
DESCRIPTION:Submissions are open for Doc Edge Pitch 2026 — New Zealand’s premier platform for developing and showcasing new documentary projects. \nDoc Edge is seeking compelling factual projects (shorts\, features\, and series) in development\, production or rough-cut stage. Selected teams will pitch to international and local decision makers and receive mentoring\, industry access\, and networking opportunities during the festival. \nOpen to both NZ and international filmmakers.\n📅 Late deadline: 29 March 2026\n📍 Pitching takes place during Doc Edge Festival 2026\n🔗 Full details & application: https://docedge.nz/programme/industry/pitch/
URL:https://shownews.co.nz/event/doc-edge-pitch-2026-late-submission-deadline/
CATEGORIES:Deadline
ATTACH;FMTTYPE=image/png:https://shownews.co.nz/wp-content/uploads/2025/12/DOC-EDGE-PITCH-2026-1-3.png
ORGANIZER;CN="Doc Edge":MAILTO:info@docedge.nz
END:VEVENT
BEGIN:VEVENT
DTSTART;TZID=Pacific/Auckland:20260416T190000
DTEND;TZID=Pacific/Auckland:20260416T203000
DTSTAMP:20260423T095304
CREATED:20260311T020742Z
LAST-MODIFIED:20260311T020742Z
UID:31863-1776366000-1776371400@shownews.co.nz
SUMMARY:MASTERCLASS: What You Need to Create a Series with Rachel Lang
DESCRIPTION:Join Award winning screenwriter Rachel Lang MNZM as she walks us through the elements needed to create a fabulous TV series proposal. \nIf you want to make your idea a reality join our online masterclass to get tips from one of the best.  Rachel’s name is all over New Zealand Television – Outrageous Fortune\, Go Girls\, Nothing Trivial\, The Almighty Johnsons\, Mercy Peak\, the Blue Rose\, Filthy Rich\, to mention a few…. \nCome to this online Masterclass with Rachel as she shares her knowledge. Learn about the essential requirements of a television series proposal.     \nThe session includes a presentation followed by dedicated time for Q&A. \nThursday April 16 2026\n7 – 8.30pm\, online. \nTicket Information:\nNZWG\, Ngā Aho Whakaari\, PASC & PISA Members: $5.00 each\nGeneral Admission: $10.00 each \nPurchase Tickets:\nhttps://events.humanitix.com/masterclass-what-you-need-to-create-a-series-with-rachel-lang/tickets
URL:https://shownews.co.nz/event/masterclass-what-you-need-to-create-a-series-with-rachel-lang/
LOCATION:online
CATEGORIES:Industry Talk,Master Class
ATTACH;FMTTYPE=image/png:https://shownews.co.nz/wp-content/uploads/2026/03/Humantix-Banner-Masterlcass-Rachel-Lang-scaled.png
END:VEVENT
BEGIN:VEVENT
DTSTART;VALUE=DATE:20260624
DTEND;VALUE=DATE:20260713
DTSTAMP:20260423T095304
CREATED:20251204T234429Z
LAST-MODIFIED:20251204T234429Z
UID:29079-1782259200-1783900799@shownews.co.nz
SUMMARY:Doc Edge Festival 2026 - Auckland
DESCRIPTION:Experience the 21st edition of New Zealand’s premier\, Oscar-qualifying Doc Edge Festival! \nFrom 24 June to 12 July\, Auckland will come alive across various venues with an extraordinary celebration of documentary storytelling.  \nThis year’s festival features world-class screenings\, thought-provoking talks\, prestigious awards\, industry networking events\, and an immersive exhibition that pushes the boundaries of documentary art. Plus\, the Doc Edge Schools Programme inspires the next generation of filmmakers and storytellers. \nStay connected for the latest updates: sign up for the Doc Edge newsletter and follow us on Facebook\, Instagram\, and LinkedIn.
URL:https://shownews.co.nz/event/doc-edge-festival-2026-auckland/
CATEGORIES:Awards,Conference,Festival,Industry Talk,Master Class,Networking,Screening,Training
ATTACH;FMTTYPE=image/jpeg:https://shownews.co.nz/wp-content/uploads/2025/12/DocEdge_Festival_White_RGB-scaled.jpg
ORGANIZER;CN="Doc Edge":MAILTO:info@docedge.nz
END:VEVENT
BEGIN:VEVENT
DTSTART;TZID=Pacific/Auckland:20260731T080000
DTEND;TZID=Pacific/Auckland:20260802T170000
DTSTAMP:20260423T095304
CREATED:20260225T210810Z
LAST-MODIFIED:20260225T210810Z
UID:31375-1785484800-1785690000@shownews.co.nz
SUMMARY:VF 48Hours 2026
DESCRIPTION:The Vista Foundation 48Hours is NZ’s largest guerrilla filmmaking competition! There is nothing quite like it. Over 10\,000 short films have been produced in the 48Hours competition over the 22 years it has run. \nOver 500 teams of filmmakers enter each year with just 48 hours to write\, shoot and cut a film with a given genre and a collection of assigned elements. Filmmakers compete for awards in their regions\, culminating in a grand final event where the national winner takes the title of Grand National Champion. \nThe Vista Foundation 48Hours aims to create a dynamic event that provides opportunities for emerging and established filmmakers to make short films in an environment that encourages innovation\, creative risk-taking\, and builds long term collaborations and community. We offer a screening opportunity and an enthusiastic inbuilt audience within the competition for teams to showcase their talent.
URL:https://shownews.co.nz/event/vf-48hours-2026/
CATEGORIES:Deadline
ATTACH;FMTTYPE=image/jpeg:https://shownews.co.nz/wp-content/uploads/2026/02/ShowNewsArticleImages.001-21.jpeg
END:VEVENT
END:VCALENDAR