BEGIN:VCALENDAR
VERSION:2.0
PRODID:-//ShowNews - ECPv6.15.20//NONSGML v1.0//EN
CALSCALE:GREGORIAN
METHOD:PUBLISH
X-WR-CALNAME:ShowNews
X-ORIGINAL-URL:https://shownews.co.nz
X-WR-CALDESC:Events for ShowNews
REFRESH-INTERVAL;VALUE=DURATION:PT1H
X-Robots-Tag:noindex
X-PUBLISHED-TTL:PT1H
BEGIN:VTIMEZONE
TZID:Pacific/Auckland
BEGIN:STANDARD
TZOFFSETFROM:+1300
TZOFFSETTO:+1200
TZNAME:NZST
DTSTART:20220402T140000
END:STANDARD
BEGIN:DAYLIGHT
TZOFFSETFROM:+1200
TZOFFSETTO:+1300
TZNAME:NZDT
DTSTART:20220924T140000
END:DAYLIGHT
BEGIN:STANDARD
TZOFFSETFROM:+1300
TZOFFSETTO:+1200
TZNAME:NZST
DTSTART:20230401T140000
END:STANDARD
BEGIN:DAYLIGHT
TZOFFSETFROM:+1200
TZOFFSETTO:+1300
TZNAME:NZDT
DTSTART:20230923T140000
END:DAYLIGHT
BEGIN:STANDARD
TZOFFSETFROM:+1300
TZOFFSETTO:+1200
TZNAME:NZST
DTSTART:20240406T140000
END:STANDARD
BEGIN:DAYLIGHT
TZOFFSETFROM:+1200
TZOFFSETTO:+1300
TZNAME:NZDT
DTSTART:20240928T140000
END:DAYLIGHT
BEGIN:STANDARD
TZOFFSETFROM:+1300
TZOFFSETTO:+1200
TZNAME:NZST
DTSTART:20250405T140000
END:STANDARD
BEGIN:DAYLIGHT
TZOFFSETFROM:+1200
TZOFFSETTO:+1300
TZNAME:NZDT
DTSTART:20250927T140000
END:DAYLIGHT
END:VTIMEZONE
BEGIN:VEVENT
DTSTART;VALUE=DATE:20240218
DTEND;VALUE=DATE:20240219
DTSTAMP:20260422T055457
CREATED:20240118T024454Z
LAST-MODIFIED:20240118T024454Z
UID:14695-1708214400-1708300799@shownews.co.nz
SUMMARY:The Productive Writer Bootcamp
DESCRIPTION:A nurturing\, one day workshop for writers who want to smash procrastination\, stay motivated & write more productively in 2024! \nThe Productive Writer Bootcamp will help you become a more focused\, relaxed and productive writer by exploring what’s going on with your inner game and how to get out of your own way. \nOur Workshop Facilitator is Kathryn Burnett – an award-winning writer and author of The Productive Writer Guidebook\, she knows more than a thing or two about the challenges of writing. She’ll take you on a deep dive into how your attitude and mindset can either help or hinder your writing journey. \nThis one-day bootcamp will help you shift self limiting beliefs and teach you how to push through your specific type of procrastination\, writer’s block and self-doubt.
URL:https://shownews.co.nz/event/the-productive-writer-bootcamp/
CATEGORIES:Workshop
END:VEVENT
BEGIN:VEVENT
DTSTART;TZID=Pacific/Auckland:20240217T100000
DTEND;TZID=Pacific/Auckland:20240217T160000
DTSTAMP:20260422T055457
CREATED:20240208T005208Z
LAST-MODIFIED:20240208T005208Z
UID:15084-1708164000-1708185600@shownews.co.nz
SUMMARY:Beyond Improv\, Auckland
DESCRIPTION:This active\, fast-paced workshop is about acknowledging your creative agency and learning to “write” using tools specific to the actor: action\, games\, and the endless surprise of your scene partners. Tap your natural play instincts with tangible skills that can be used repeatedly in the creation of new performances\, with or without a text.
URL:https://shownews.co.nz/event/beyond-improv-auckland/
CATEGORIES:Workshop
END:VEVENT
BEGIN:VEVENT
DTSTART;VALUE=DATE:20240216
DTEND;VALUE=DATE:20240217
DTSTAMP:20260422T055457
CREATED:20240213T225444Z
LAST-MODIFIED:20240213T225444Z
UID:15189-1708041600-1708127999@shownews.co.nz
SUMMARY:Table Read\, application deadline
DESCRIPTION:A professional Table Read is an invaluable development tool for screenwriters. Don’t under-estimate the value of hearing your script in a performance situation. You get to hear how the timing\, structure and dialogue are working. \nYou get to have a detailed discussion with the actors and director after the Read\, to hear their feedback and thoughts on how they felt the story worked\, how their character progressed\, and so much more. \nTo get your script into the draw simply email it to GuildHQ@nzwritersguild.org.nz now! \nActors who are keen to take part click HERE to register your name. \n 
URL:https://shownews.co.nz/event/table-read-application-deadline/
CATEGORIES:Deadline
END:VEVENT
BEGIN:VEVENT
DTSTART;VALUE=DATE:20240215
DTEND;VALUE=DATE:20240216
DTSTAMP:20260422T055457
CREATED:20231207T020033Z
LAST-MODIFIED:20231207T020033Z
UID:14068-1707955200-1708041599@shownews.co.nz
SUMMARY:Reo Māori Content Co-Fund: RFP deadline
DESCRIPTION:Te Māngai Pāho and Irirangi Te Motu | NZ On Air have joined forces to support the Māori media sector and work collectively to improve the outcomes of the Maihi Karauna\, the Crown’s strategy for Māori language revitalisation. \nWe are now calling for proposals for a Reo Māori Content Co-Fund and invite applicants creating high-end\, te reo Māori Scripted content to apply for funding. \nApplications for the Reo Māori Content Co-Fund will be managed and processed by Te Māngai Pāho. You can find the RFP with general eligibility guidelines here. \nUp to $8m has been allocated for the co-fund to support and promote high-quality Scripted Māori content with a strong Māori world view and 30% or more te reo. We are also looking to fund Scripted Development\, to ensure there are strong projects coming through in future funding rounds. Premium Non-Fiction projects are also eligible for this round but will need to provide a strong case for funding. \nScripted applications need to contain 30% or more te reo Māori\, have an eligible\, established local platform attached and include evidence that the project is ready for production.   \nNon-Fiction applications need to contain 30% or more te reo Māori\, require significant research and tell a compelling story. \nScripted Content Development applications do not need to have a complete plot script or season outline but applicants must demonstrate a good understanding of how additional development mahi will get their project ready for production in the future. \nApplications for interactive content; radio and audio\, including podcasts; platforms\, games and apps will not be considered for funding in this round. \nTo apply\, you must first register in Te Pūahatanga\, the online application system operated by Te Māngai Pāho. \nhttps://funding.tmp.govt.nz/
URL:https://shownews.co.nz/event/reo-maori-content-co-fund-rfp-deadline/
CATEGORIES:Deadline
END:VEVENT
BEGIN:VEVENT
DTSTART;VALUE=DATE:20240215
DTEND;VALUE=DATE:20240216
DTSTAMP:20260422T055457
CREATED:20231129T213501Z
LAST-MODIFIED:20231129T213501Z
UID:13782-1707955200-1708041599@shownews.co.nz
SUMMARY:Doc Edge Pitch: regular deadline
DESCRIPTION:In 2024\, Doc Edge Pitch’s theme is “Truth\, Impact and Reconciliation”.\nWe are looking for New Zealand and international projects in the following formats:\n• Feature theatrical or TV one-off\n• Series (web or TV)\n• Immersive (VR\, AR\, and XR) with an accompanying short or long form documentary\nSelected projects will join our whanau (family) and go through a series of workshops on pitching presentation and coaching from mentors as well as post-pitch follow-ups.
URL:https://shownews.co.nz/event/doc-edge-pitch-regular-deadline/
CATEGORIES:Deadline
END:VEVENT
BEGIN:VEVENT
DTSTART;TZID=Pacific/Auckland:20240214T190000
DTEND;TZID=Pacific/Auckland:20240214T220000
DTSTAMP:20260422T055457
CREATED:20240129T223440Z
LAST-MODIFIED:20240129T223440Z
UID:14878-1707937200-1707948000@shownews.co.nz
SUMMARY:VES NZ Auckland Networking
DESCRIPTION:An evening of networking and community building\, designed for both new and existing members to connect and expand their professional network.  \nCome ready to meet and mingle with like-minded individuals. \n 
URL:https://shownews.co.nz/event/ves-nz-auckland-networking/
CATEGORIES:Networking
END:VEVENT
BEGIN:VEVENT
DTSTART;VALUE=DATE:20240214
DTEND;VALUE=DATE:20240215
DTSTAMP:20260422T055457
CREATED:20231011T182657Z
LAST-MODIFIED:20231011T182657Z
UID:11652-1707868800-1707955199@shownews.co.nz
SUMMARY:Sony Future Filmmaker Awards: submission deadline
DESCRIPTION:Free to enter\, the Sony Future Filmmaker Awards elevates the original voices that bring a fresh perspective to storytelling. The shortlisted filmmakers are flown to Los Angeles for an exclusive four-day event to gain unparalleled insight into all aspects of the filmmaking process to advance their careers. After a black-tie awards ceremony at the Cary Grant Theatre\, the 30 successful filmmakers benefit from a four-day workshop program. Aimed at breakthrough artists and independent filmmakers worldwide\, there are six categories: Fiction\, Non-Fiction\, Environment\, Animation\, Student and Future Format. \nEach category awards a winner and a shortlist of up to five.
URL:https://shownews.co.nz/event/sony-future-filmmaker-awards-submission-deadline/
LOCATION:online
CATEGORIES:Awards
END:VEVENT
BEGIN:VEVENT
DTSTART;TZID=Pacific/Auckland:20240213T160000
DTEND;TZID=Pacific/Auckland:20240213T170000
DTSTAMP:20260422T055457
CREATED:20240129T223824Z
LAST-MODIFIED:20240129T223824Z
UID:14880-1707840000-1707843600@shownews.co.nz
SUMMARY:Short Cuts 2024 Q&A
DESCRIPTION:To help with applications for PASC’s Short Cuts\, find out everything you need to know about applying and ask any burning questions.  \nShort Cuts development lab is for scripted short films under 10 minutes in length. Designed specifically to improve Pan-Asian representation in the short film space\, up to nine teams will be invited in May 2024 for robust development of their projects. \nRegister here
URL:https://shownews.co.nz/event/short-cuts-2024-qa/
CATEGORIES:Webinar
END:VEVENT
BEGIN:VEVENT
DTSTART;VALUE=DATE:20240212
DTEND;VALUE=DATE:20240213
DTSTAMP:20260422T055457
CREATED:20240118T014756Z
LAST-MODIFIED:20240118T014813Z
UID:14679-1707696000-1707782399@shownews.co.nz
SUMMARY:Loading Docs - submission deadline
DESCRIPTION:Loading Docs submissions are open for 2024.  \nNZ-based filmmakers have to opportunity to submit a proposal for the chance to be part of the acclaimed short documentary initiative of Aotearoa New Zealand. Selected filmmakers will be awarded funding and receive high-level development support and mentorship from respected industry experts. Our guiding theme for this year is ‘Attention’ – ‘Te kimihanga\, te hahaunga’\, challenging you to uncover and showcase the unseen beauty and potential in our complex surroundings.   \nSubmit to Loading Docs by February 12.
URL:https://shownews.co.nz/event/loading-doc-submission-deadline/
CATEGORIES:Deadline
END:VEVENT
BEGIN:VEVENT
DTSTART;VALUE=DATE:20240211
DTEND;VALUE=DATE:20240212
DTSTAMP:20260422T055457
CREATED:20240118T014609Z
LAST-MODIFIED:20240118T014609Z
UID:14677-1707609600-1707695999@shownews.co.nz
SUMMARY:A Day of Shorts\, Panels and Mingling
DESCRIPTION:Join us for our third annual Proud Voices On Screen event – a day of short films\, panel discussions and mingling\, for queer\, lgtbqia+\, takatāpui & rainbow identifying creators of film and series. Come along and celebrate queer voices in the Aotearoa screen industry. All levels of filmmaking experience are welcome\, including those just dipping their toes in. \nVenue: Upstairs Gallery\, Studio One Toi Tū\, 1 Ponsonby Rd \nAdmission is free but seats are limited. Please register here.
URL:https://shownews.co.nz/event/a-day-of-shorts-panels-and-mingling/
CATEGORIES:Conference,Networking,Screening
END:VEVENT
BEGIN:VEVENT
DTSTART;VALUE=DATE:20240210
DTEND;VALUE=DATE:20240211
DTSTAMP:20260422T055457
CREATED:20240118T020031Z
LAST-MODIFIED:20240118T020031Z
UID:14688-1707523200-1707609599@shownews.co.nz
SUMMARY:Self-Tape Audition Workshop
DESCRIPTION:Get ready to step up your self-taping and audition game! \nSelf-taped auditions are fast becoming industry norm and casting agents want them fast\, sharp\, tidy and showing the talent at their best….which is a little niggly when you’re a newbie\, house share and have no idea what gear you need. Self-tapes NEED to be better and we’re going to teach you how to nail them! \nChoose which workshop suits you best: \nWorkshop 1 @ 12pm – ‘New Kids on the Block’ aka for self-tape beginners.  \nWorkshop 2 @ 3pm – ‘The Represented’ aka for those already with an agent and some self-taping skills \nActress\, Director and Performance Coach Lara Macgregor will lead the workshops bringing a wealth of casting and acting experience with her. \nLocation: Bunker Street Studios\, Wānaka \nDate: Saturday 10th February \nTime: 12pm & 3pm \nCost: $25 \nSeats: Capped at 15 pax per session
URL:https://shownews.co.nz/event/self-tape-audition-workshop/
CATEGORIES:Workshop
END:VEVENT
BEGIN:VEVENT
DTSTART;VALUE=DATE:20240209
DTEND;VALUE=DATE:20240210
DTSTAMP:20260422T055457
CREATED:20240118T025522Z
LAST-MODIFIED:20240118T025522Z
UID:14703-1707436800-1707523199@shownews.co.nz
SUMMARY:No More A Victim\, campaign closing
DESCRIPTION:NO MORE A VICTIM is a short film\, written by Tanya M. Wheeler that will be produced and directed by Tanya in 2024. It is about a Victim and her Killer\, but it aims to subvert the audience’s expectations. \nFilmmaking is expensive and I am lucky enough to have an amazing and willing cast and crew who have faith in my ability to deliver. But I still have to feed them 🙂 \nThis is an ambitious project that requires 7-8 days of shooting\, plus a number of complex locations and transport.
URL:https://shownews.co.nz/event/no-more-a-victim-campaign-closing/
CATEGORIES:Deadline
END:VEVENT
BEGIN:VEVENT
DTSTART;VALUE=DATE:20240208
DTEND;VALUE=DATE:20240209
DTSTAMP:20260422T055457
CREATED:20240118T025355Z
LAST-MODIFIED:20240118T025355Z
UID:14701-1707350400-1707436799@shownews.co.nz
SUMMARY:Unplugged Expeditions\, campaign closing
DESCRIPTION:Venturing into the Unknown\, we’re planning a journey down the length of New Zealand on EUC’s (Electric Unicycle)\, capturing the entire process for a YouTube Documentary Web Series. \nYet\, to accomplish this feat\, we require a helping hand. \nOur planned route will cover approximately 3\,500 kilometers\, or about 2\,175 miles\, taking us the best part of 35 days to complete. We kick off at Cape Reinga (the northernmost tip of NZ) on the 11th of February and conclude at The Bluff\, near Invercargill (the most southern end of NZ) around mid to late March.
URL:https://shownews.co.nz/event/unplugged-expeditions-campaign-closing/
CATEGORIES:Deadline
END:VEVENT
BEGIN:VEVENT
DTSTART;VALUE=DATE:20240208
DTEND;VALUE=DATE:20240209
DTSTAMP:20260422T055457
CREATED:20231011T182446Z
LAST-MODIFIED:20231011T182446Z
UID:11649-1707350400-1707436799@shownews.co.nz
SUMMARY:NZ On Air: round Toru deadline
DESCRIPTION:Targeted and General Audiences round \nApplications open: 18 January 2024 \nDeadline: 4:00 pm\, 8 February 2024 \nApplicants informed: 12 April 2024
URL:https://shownews.co.nz/event/nz-on-air-round-toru-deadline/
END:VEVENT
BEGIN:VEVENT
DTSTART;TZID=Pacific/Auckland:20240201T193000
DTEND;TZID=Pacific/Auckland:20240201T220000
DTSTAMP:20260422T055457
CREATED:20240118T022452Z
LAST-MODIFIED:20240118T022452Z
UID:14693-1706815800-1706824800@shownews.co.nz
SUMMARY:Little Cinema Queenstown
DESCRIPTION:A spectacular short film showcase night that supports filmmaking at grassroots levels in the Queenstown Lakes District area and beyond. From sketches\, documentaries\, music videos and more\, this promises to be a fun night for all lovers of film.  \nThursday 1 February\, 7:30pm – 9:45pm | PUAWAI | $5 \nIf you would like your short film screened on the night\, please don’t hesitate to send your entries to: bodproductions1@gmail.com
URL:https://shownews.co.nz/event/little-cinema-queenstown/
CATEGORIES:Screening
END:VEVENT
BEGIN:VEVENT
DTSTART;VALUE=DATE:20240201
DTEND;VALUE=DATE:20240202
DTSTAMP:20260422T055457
CREATED:20231214T032845Z
LAST-MODIFIED:20231214T032845Z
UID:14227-1706745600-1706831999@shownews.co.nz
SUMMARY:NZ Web Fest: submissions open
DESCRIPTION:NZ Web Fest opens submissions for its 10th edition on 1 February. \nThe festival accepts submissions of podcasts\, short films and webseries. \nFind more info and submit via FilmFreeway.
URL:https://shownews.co.nz/event/nz-web-fest-submissions-open/
CATEGORIES:Deadline
END:VEVENT
BEGIN:VEVENT
DTSTART;VALUE=DATE:20240201
DTEND;VALUE=DATE:20240202
DTSTAMP:20260422T055457
CREATED:20231214T031238Z
LAST-MODIFIED:20231214T031238Z
UID:14213-1706745600-1706831999@shownews.co.nz
SUMMARY:Show Me Shorts: submissions open
DESCRIPTION:Show Me Shorts opens submissions for its 2024 edition. Visit the website for more info about the festival.
URL:https://shownews.co.nz/event/show-me-shorts-submissions-open/
CATEGORIES:Deadline
END:VEVENT
BEGIN:VEVENT
DTSTART;TZID=Pacific/Auckland:20240131T100000
DTEND;TZID=Pacific/Auckland:20240131T100000
DTSTAMP:20260422T055457
CREATED:20240118T014301Z
LAST-MODIFIED:20240118T014301Z
UID:14675-1706695200-1706695200@shownews.co.nz
SUMMARY:DEGANZ Emerging Women Filmmakers Incubator - application deadline
DESCRIPTION:The vision of the Incubator is to empower participating directors with confidence\, knowledge and connections. The Incubator is intended for emerging debut directors of feature film (drama or documentary) and will also consider those wishing to establish careers in TV drama and scripted content. \nApplicants must apply with a project; however\, the Incubator will be focused primarily on the filmmaker’s development rather than project development. \nApplication Deadline: 10AM\, Wednesday 31 January 2024
URL:https://shownews.co.nz/event/deganz-emerging-women-filmmakers-incubator-application-deadline-2/
CATEGORIES:Deadline
END:VEVENT
BEGIN:VEVENT
DTSTART;TZID=Pacific/Auckland:20240131T100000
DTEND;TZID=Pacific/Auckland:20240131T100000
DTSTAMP:20260422T055457
CREATED:20231129T211625Z
LAST-MODIFIED:20231129T211625Z
UID:13762-1706695200-1706695200@shownews.co.nz
SUMMARY:DEGANZ Emerging Women Filmmakers Incubator: application deadline
DESCRIPTION:The Directors and Editors Guild of Aotearoa New Zealand is now accepting applications for the eighth Emerging Women Filmmakers Incubator. \nThe vision of the Incubator is to empower participating directors with confidence\, knowledge and connections. The Incubator is intended for emerging debut directors of feature film (drama or documentary) and will also consider those wishing to establish careers in TV drama and scripted content. \nApplicants must apply with a project; however\, the Incubator will be focused primarily on filmmaker development rather than project development.
URL:https://shownews.co.nz/event/deganz-emerging-women-filmmakers-incubator-application-deadline/
CATEGORIES:Deadline
END:VEVENT
BEGIN:VEVENT
DTSTART;TZID=Pacific/Auckland:20240130T193000
DTEND;TZID=Pacific/Auckland:20240130T220000
DTSTAMP:20260422T055457
CREATED:20240104T091040Z
LAST-MODIFIED:20240104T091040Z
UID:14390-1706643000-1706652000@shownews.co.nz
SUMMARY:ShowNews Academy
DESCRIPTION:To kick 2024 off\, Brenda Kendall has chosen the 1954 Fellini classic LA STRADA. \nLA STRADA won the Oscar in 1957 for Best Foreign Language Film. \nFrom Wikipedia.   \nLa strada (The Road) is a 1954 Italian drama film directed by Federico Fellini and co-written by Fellini\, Tullio Pinelli and Ennio Flaiano. The film tells the story of Gelsomina\, a simple-minded young woman (Giulietta Masina) bought from her mother by Zampanò (Anthony Quinn)\, a brutish strongman who takes her with him on the road. \nFellini described La Strada as “a complete catalogue of my entire mythological world\, a dangerous representation of my identity that was undertaken with no precedent whatsoever”.[1] As a result\, the film demanded more time and effort than any of his other works\, before or later.[2] The development process was long and tortuous; there were problems during production\, including insecure financial backing\, problematic casting\, and numerous delays. Finally\, just before the production completed shooting\, Fellini suffered a nervous breakdown that required medical treatment so that he could complete principal photography. Initial critical reaction was harsh\, and the film’s screening at the Venice Film Festival was the occasion of a bitter controversy that escalated into a public brawl between Fellini’s supporters and detractors. \nSubsequently\, however\, La Strada has become “one of the most influential films ever made”\, according to the American Film Institute.[3] It won the inaugural Academy Award for Best Foreign Language Film in 1957.[4][5] It was placed fourth in the 1992 British Film Institute directors’ list of cinema’s top 10 films.[6] \nIn 2008\, the film was included on the Italian Ministry of Cultural Heritage’s 100 Italian films to be saved\, a list of 100 films that “have changed the collective memory of the country between 1942 and 1978.”[7
URL:https://shownews.co.nz/event/shownews-academy-3/
LOCATION:Academy Cinema\, 44 Lorne St\, Auckland\, New Zealand
CATEGORIES:Screening
ATTACH;FMTTYPE=image/jpeg:https://shownews.co.nz/wp-content/uploads/2024/01/MV5BYjUyOGMyMTQtYTM5Yy00MjFiLTk2OGItMWYwMDc2YmM1YzhiXkEyXkFqcGdeQXVyMjA0MzYwMDY@._V1_.jpg
END:VEVENT
BEGIN:VEVENT
DTSTART;VALUE=DATE:20240130
DTEND;VALUE=DATE:20240131
DTSTAMP:20260422T055457
CREATED:20231206T201103Z
LAST-MODIFIED:20231206T201103Z
UID:14035-1706572800-1706659199@shownews.co.nz
SUMMARY:Faces\, campaign closes
DESCRIPTION:Thomas Fink-Jensen’s intimate World War One period piece\, Faces\, is raising funds on Boosted until 30 Jan.
URL:https://shownews.co.nz/event/faces-campaign-closes/
CATEGORIES:Deadline
END:VEVENT
BEGIN:VEVENT
DTSTART;VALUE=DATE:20240125
DTEND;VALUE=DATE:20240126
DTSTAMP:20260422T055457
CREATED:20231129T210720Z
LAST-MODIFIED:20231129T210720Z
UID:13750-1706140800-1706227199@shownews.co.nz
SUMMARY:Planet 13: campaign closes
DESCRIPTION:Boosted campaign for Joe Murdie’s short. \nPlanet 13 is a short narrative film that delves into the notion of a backup planet\, a tongue-in-cheek reference to the idea of a “plan B.” \nSet in the year 2093\, the story takes place on a planet ravaged by human activity\, devoid of natural fuel resources and rapidly deteriorating.
URL:https://shownews.co.nz/event/planet-13-campaign-closes/
CATEGORIES:Deadline
END:VEVENT
BEGIN:VEVENT
DTSTART;VALUE=DATE:20240123
DTEND;VALUE=DATE:20240124
DTSTAMP:20260422T055457
CREATED:20240118T025208Z
LAST-MODIFIED:20240118T025208Z
UID:14699-1705968000-1706054399@shownews.co.nz
SUMMARY:Elementionals\, campaign closing
DESCRIPTION:Elementionals is a fantasy\, action and supernatural series. A personal project. \nThe genre of this story includes magic\, dark\, supernatural\, crystals\, elements\, hybrids/monsters\, witches\, mages\, vampires\, possessions\, adventures\, magical transformations on both boys and girls. Love between hate.
URL:https://shownews.co.nz/event/elementionals-campaign-closing/
CATEGORIES:Deadline
END:VEVENT
BEGIN:VEVENT
DTSTART;VALUE=DATE:20240122
DTEND;VALUE=DATE:20240123
DTSTAMP:20260422T055457
CREATED:20231011T181854Z
LAST-MODIFIED:20231011T181854Z
UID:11647-1705881600-1705967999@shownews.co.nz
SUMMARY:Doc Edge: final submission deadline
DESCRIPTION:Doc Edge is a highly competitive festival with various award categories. As an Academy Awards® qualifying festival\, the winners of the Best NZ & International Short and Feature categories will receive consideration for an Oscar in 2025.
URL:https://shownews.co.nz/event/doc-edge-final-submission-deadline/
CATEGORIES:Festival
END:VEVENT
BEGIN:VEVENT
DTSTART;VALUE=DATE:20240118
DTEND;VALUE=DATE:20240119
DTSTAMP:20260422T055457
CREATED:20231214T032351Z
LAST-MODIFIED:20231214T032351Z
UID:14225-1705536000-1705622399@shownews.co.nz
SUMMARY:Adventure's End: campaign closes
DESCRIPTION:Adventure’s End is raising funds to support production on Boosted. \nWhen a group of D&D players are forced together for a night\, real-life tensions rise to the surface under the guise of roleplay. Though they began their trip as friends\, they may return home as something more… or less. \nWritten & Directed by: Amy Workman \nProduced by: Lauren Wilson \n 
URL:https://shownews.co.nz/event/adventures-end-campaign-closes/
CATEGORIES:Deadline
END:VEVENT
BEGIN:VEVENT
DTSTART;VALUE=DATE:20240115
DTEND;VALUE=DATE:20240116
DTSTAMP:20260422T055457
CREATED:20231011T175131Z
LAST-MODIFIED:20231011T175131Z
UID:11642-1705276800-1705363199@shownews.co.nz
SUMMARY:Doc Edge: late submission deadline
DESCRIPTION:Doc Edge is a highly competitive festival with various award categories. As an Academy Awards® qualifying festival\, the winners of the Best NZ & International Short and Feature categories will receive consideration for an Oscar in 2025.
URL:https://shownews.co.nz/event/doc-edge-late-submission-deadline/
CATEGORIES:Festival
END:VEVENT
BEGIN:VEVENT
DTSTART;TZID=Pacific/Auckland:20240108T170000
DTEND;TZID=Pacific/Auckland:20240108T170000
DTSTAMP:20260422T055457
CREATED:20231214T031945Z
LAST-MODIFIED:20231214T031945Z
UID:14214-1704733200-1704733200@shownews.co.nz
SUMMARY:Loading Docs: EOI closes
DESCRIPTION:Loading Docs 10 has opened a call for Expressions of Interest. \n  \nE ngā reo\, e ngā mana\, i runga i te reo rāhiri o Loading Docs tēnei te karanga\, nau mai\, kuhu mai\, tono mai rā. Loading Docs is now accepting expressions of interest from talented filmmakers ready to embark on a journey of cinematic storytelling and professional growth. \nThis is your opportunity to join a new cohort of Loading Docs filmmakers. An award-winning short documentary initiative\, Loading Docs\, has amassed over 19 million views globally\, contributed to the creation of multiple feature documentaries\, and propelled the career progression of over a hundred filmmakers. \n\nWe invite you to submit a short synopsis and treatment for up to three documentary concepts. \nKei ngā ringa whatu kupu\, kei ngā arero pounamu\, kia kawea e te reo – whītiki tauā! Loading Docs seeks two projects expressly told through te reo Māori (one documentary 100% in te reo\, the other at least 30%)\, ensuring that distinctly Māori perspectives\, values\, and stories are woven into the fabric of the kaupapa. \nEngage with us early to gain constructive feedback and insights on your ideas before the full proposal deadline. By connecting with Loading Docs now\, you will better understand our ethos\, the commitment we seek\, and the kind of stories that resonate with us and our audiences. \nExpressions of interest will be accepted until 5 pm\, Monday\, January 8\, 2024. \nWe encourage you to reach out early and welcome opportunities to engage with filmmakers prior to the summer break.
URL:https://shownews.co.nz/event/loading-docs-eoi-closes/
CATEGORIES:Deadline
END:VEVENT
BEGIN:VEVENT
DTSTART;VALUE=DATE:20240104
DTEND;VALUE=DATE:20240105
DTSTAMP:20260422T055457
CREATED:20231122T234627Z
LAST-MODIFIED:20231122T234628Z
UID:13550-1704326400-1704412799@shownews.co.nz
SUMMARY:C.O.C. Squad - campaign closes
DESCRIPTION:Kickstarter campaign for Oscar Felix Andrews and Mark Wowk’s animated show C.O.C. Squad
URL:https://shownews.co.nz/event/c-o-c-squad-campaign-closes/
CATEGORIES:Deadline
END:VEVENT
BEGIN:VEVENT
DTSTART;VALUE=DATE:20231231
DTEND;VALUE=DATE:20240101
DTSTAMP:20260422T055457
CREATED:20231129T213357Z
LAST-MODIFIED:20231129T213357Z
UID:13779-1703980800-1704067199@shownews.co.nz
SUMMARY:Doc Edge Pitch: early bird deadline
DESCRIPTION:In 2024\, Doc Edge Pitch’s theme is “Truth\, Impact and Reconciliation”.\nWe are looking for New Zealand and international projects in the following formats:\n• Feature theatrical or TV one-off\n• Series (web or TV)\n• Immersive (VR\, AR\, and XR) with an accompanying short or long form documentary\nSelected projects will join our whanau (family) and go through a series of workshops on pitching presentation and coaching from mentors as well as post-pitch follow-ups.
URL:https://shownews.co.nz/event/doc-edge-pitch-early-bird-deadline/
CATEGORIES:Deadline
END:VEVENT
BEGIN:VEVENT
DTSTART;VALUE=DATE:20231222
DTEND;VALUE=DATE:20231223
DTSTAMP:20260422T055457
CREATED:20231024T225206Z
LAST-MODIFIED:20231024T225206Z
UID:12331-1703203200-1703289599@shownews.co.nz
SUMMARY:The Siege of Cinema 3 - campaign closes
DESCRIPTION:Crowdfunding campaign for Paul Barlow’s underdog story\, set in a smalltown cinema\, closing 22 Dec
URL:https://shownews.co.nz/event/the-siege-of-cinema-3-campaign-closes/
CATEGORIES:Deadline
END:VEVENT
END:VCALENDAR