BEGIN:VCALENDAR
VERSION:2.0
PRODID:-//ShowNews - ECPv6.15.20//NONSGML v1.0//EN
CALSCALE:GREGORIAN
METHOD:PUBLISH
X-WR-CALNAME:ShowNews
X-ORIGINAL-URL:https://shownews.co.nz
X-WR-CALDESC:Events for ShowNews
REFRESH-INTERVAL;VALUE=DURATION:PT1H
X-Robots-Tag:noindex
X-PUBLISHED-TTL:PT1H
BEGIN:VTIMEZONE
TZID:Pacific/Auckland
BEGIN:STANDARD
TZOFFSETFROM:+1300
TZOFFSETTO:+1200
TZNAME:NZST
DTSTART:20230401T140000
END:STANDARD
BEGIN:DAYLIGHT
TZOFFSETFROM:+1200
TZOFFSETTO:+1300
TZNAME:NZDT
DTSTART:20230923T140000
END:DAYLIGHT
BEGIN:STANDARD
TZOFFSETFROM:+1300
TZOFFSETTO:+1200
TZNAME:NZST
DTSTART:20240406T140000
END:STANDARD
BEGIN:DAYLIGHT
TZOFFSETFROM:+1200
TZOFFSETTO:+1300
TZNAME:NZDT
DTSTART:20240928T140000
END:DAYLIGHT
BEGIN:STANDARD
TZOFFSETFROM:+1300
TZOFFSETTO:+1200
TZNAME:NZST
DTSTART:20250405T140000
END:STANDARD
BEGIN:DAYLIGHT
TZOFFSETFROM:+1200
TZOFFSETTO:+1300
TZNAME:NZDT
DTSTART:20250927T140000
END:DAYLIGHT
END:VTIMEZONE
BEGIN:VEVENT
DTSTART;VALUE=DATE:20240331
DTEND;VALUE=DATE:20240401
DTSTAMP:20260424T221420
CREATED:20240328T085636Z
LAST-MODIFIED:20240328T085636Z
UID:16516-1711843200-1711929599@shownews.co.nz
SUMMARY:NZ Web Fest\, earlybird deadline
DESCRIPTION:Since 2015 NZ Web Fest has curated and celebrated online entertainment. Since 2017 the festival has been a proud participant in the Web Series World Cup. In 2023 the festival became a participant in the inaugural edition of the Audio Fiction World Cup. \nThe festival selects podcasts\, short films and web series.
URL:https://shownews.co.nz/event/nz-web-fest-earlybird-deadline/
CATEGORIES:Deadline
END:VEVENT
BEGIN:VEVENT
DTSTART;VALUE=DATE:20240330
DTEND;VALUE=DATE:20240331
DTSTAMP:20260424T221420
CREATED:20240307T074809Z
LAST-MODIFIED:20240307T083448Z
UID:15923-1711756800-1711843199@shownews.co.nz
SUMMARY:Interference - campaign closes
DESCRIPTION:1980s New Zealand\, where being gay means hiding in plain sight and local homophobes\, backed by the Far Right churches of Reagan’s America\, are hell bent on destroying any liberal fantasies of change. With money and power behind them\, they wage open warfare on New Zealanders fighting for their right to be different. \nIt was brutal\, it was dangerous\, at times it was funny as hell … and it changed our nation forever. \nThere’s no director in the country who can tell this story with more passion and authenticity. Welby Ings (Punch\, Sparrow\, Boy) knows the story intimately. In the early 80s\, he started his small town’s three person pressure group\, Gay Rights of Taihape. Arrested several times and with his teaching career under threat\, he threw himself into the national campaign\, protesting\, infiltrating and interfering as much as possible with the opposition.
URL:https://shownews.co.nz/event/interference-campaign-closes/
CATEGORIES:Deadline
END:VEVENT
BEGIN:VEVENT
DTSTART;VALUE=DATE:20240328
DTEND;VALUE=DATE:20240329
DTSTAMP:20260424T221420
CREATED:20240213T231337Z
LAST-MODIFIED:20240213T231337Z
UID:15198-1711584000-1711670399@shownews.co.nz
SUMMARY:NZIFF - International Submissions Deadline
DESCRIPTION:This year’s festival will take place in July/August. \nYou should include a press kit with a brief synopsis or description of your film and the key credits for your film along with an online screener. We will only accept submissions online\, via an online screener. \n  \n 
URL:https://shownews.co.nz/event/nziff-international-submissions-deadline/
CATEGORIES:Deadline
END:VEVENT
BEGIN:VEVENT
DTSTART;TZID=Pacific/Auckland:20240326T080000
DTEND;TZID=Pacific/Auckland:20240326T170000
DTSTAMP:20260424T221420
CREATED:20240307T005029Z
LAST-MODIFIED:20240307T005029Z
UID:15907-1711440000-1711472400@shownews.co.nz
SUMMARY:ShowNews Academy - TOUCH OF EVIL
DESCRIPTION:Each month ShowNews presents a film at Academy Cinemas picked by a special film industry guest. For March\, director Gregor Nicholas has chosen an Orson Welles classic TOUCH OF EVIL \nTickets only $10!\nHappy Hour drinks from 7pm.\nScreening 8:15pm. \n111 mins | Rated PG | Drama \nWhen a car bomb explodes on the American side of the U.S./Mexico border\, Mexican drug enforcement agent Miguel Vargas (Charlton Heston) begins his investigation\, along with American police captain Hank Quinlan (Orson Welles). When Vargas begins to suspect that Quinlan and his shady partner\, Menzies (Joseph Calleia)\, are planting evidence to frame an innocent man\, his investigations into their possible corruption quickly put himself and his new bride\, Susie (Janet Leigh)\, in jeopardy.
URL:https://shownews.co.nz/event/shownews-academy-touch-of-evil/
LOCATION:Academy Cinema\, 44 Lorne St\, Auckland\, New Zealand
CATEGORIES:Screening
ATTACH;FMTTYPE=image/jpeg:https://shownews.co.nz/wp-content/uploads/2024/03/1920-x-1080-copy-5-2.jpg
END:VEVENT
BEGIN:VEVENT
DTSTART;TZID=Pacific/Auckland:20240325T130000
DTEND;TZID=Pacific/Auckland:20240325T130000
DTSTAMP:20260424T221420
CREATED:20240208T004859Z
LAST-MODIFIED:20240208T004859Z
UID:15082-1711371600-1711371600@shownews.co.nz
SUMMARY:South Shorts\, application deadline
DESCRIPTION:During this six-month mentorship programme\, successful applicants attend a series of one-day hubs and are led through focused script development under the guidance of Briar Grace-Smith. Briar brings considerable experience and knowledge to the room for group mentorship\, and each participant also gets one-on-one feedback. The hub days involve script read-throughs\, writing exercises\, and hearing from guest speakers about their experiences making films. \nOn completion of the programme\, you will leave with new skills and tools to develop your work\, a great new network of like-minded practitioners\, and a completed short film script. \nThis initiative is intended for people who live in South Auckland or are connected to the South Auckland community
URL:https://shownews.co.nz/event/south-shorts-application-deadline/
CATEGORIES:Deadline
END:VEVENT
BEGIN:VEVENT
DTSTART;VALUE=DATE:20240324
DTEND;VALUE=DATE:20240325
DTSTAMP:20260424T221420
CREATED:20240314T002641Z
LAST-MODIFIED:20240314T002641Z
UID:16110-1711238400-1711324799@shownews.co.nz
SUMMARY:Night Waves\, campaign closes
DESCRIPTION:Raising funds for post-prod on drama short Night Waves
URL:https://shownews.co.nz/event/night-waves-campaign-closes/
CATEGORIES:Deadline
END:VEVENT
BEGIN:VEVENT
DTSTART;VALUE=DATE:20240324
DTEND;VALUE=DATE:20240325
DTSTAMP:20260424T221420
CREATED:20240304T235847Z
LAST-MODIFIED:20240304T235847Z
UID:15713-1711238400-1711324799@shownews.co.nz
SUMMARY:Beyond Improv\, Christchurch
DESCRIPTION:The word “improv” has come to define a style\, a tone\, a genre. Let’s move beyond that word and investigate the tools available to an actor looking to create something new\, whether the words are written down for them or not. This active\, fast-paced workshop is about acknowledging your creative agency and learning to “write” using tools specific to the actor: action\, games\, and the endless surprise of your scene partners. \nLed by actor\, director\, and teacher\, Jonathan Price \n 
URL:https://shownews.co.nz/event/beyond-improv-christchurch/
CATEGORIES:Workshop
END:VEVENT
BEGIN:VEVENT
DTSTART;VALUE=DATE:20240323
DTEND;VALUE=DATE:20240325
DTSTAMP:20260424T221420
CREATED:20240118T024653Z
LAST-MODIFIED:20240118T024653Z
UID:14697-1711152000-1711324799@shownews.co.nz
SUMMARY:Top of the South Screenwriting Seminar
DESCRIPTION:The Top of the South Screenwriting Seminar 2024 is now open for registrations so be in quick!\nWith world class screenplay consultants and teachers Kathryn Burnett and Steve Barr facilitating\, this promises to be an amazing weekend\, March 23 and 24 in Whakatū/Nelson.\nThe course outline\, Kathryn and Steve’s bios\, and a link to register are within the event.\nSee you there!
URL:https://shownews.co.nz/event/top-of-the-south-screenwriting-seminar/
CATEGORIES:Workshop
END:VEVENT
BEGIN:VEVENT
DTSTART;VALUE=DATE:20240323
DTEND;VALUE=DATE:20240324
DTSTAMP:20260424T221420
CREATED:20240304T235643Z
LAST-MODIFIED:20240304T235643Z
UID:15712-1711152000-1711238399@shownews.co.nz
SUMMARY:Beyond Improv\, Wellington
DESCRIPTION:The word “improv” has come to define a style\, a tone\, a genre. Let’s move beyond that word and investigate the tools available to an actor looking to create something new\, whether the words are written down for them or not. This active\, fast-paced workshop is about acknowledging your creative agency and learning to “write” using tools specific to the actor: action\, games\, and the endless surprise of your scene partners. \nLed by actor\, director\, and teacher\, Jonathan Price \n 
URL:https://shownews.co.nz/event/beyond-improv-wellington/
CATEGORIES:Workshop
END:VEVENT
BEGIN:VEVENT
DTSTART;VALUE=DATE:20240321
DTEND;VALUE=DATE:20240322
DTSTAMP:20260424T221420
CREATED:20240314T004233Z
LAST-MODIFIED:20240314T004233Z
UID:16126-1710979200-1711065599@shownews.co.nz
SUMMARY:Casting Intensive with Anousha Zarkesh 1\, application deadline
DESCRIPTION:Equity Foundation NZ is thrilled to be bringing the renowned Australian casting director Anousha Zarkesh to Aotearoa for one weekend of work with Equity NZ members. \nIf you are selected (there are very limited spots) you will spend one day in an intimate setting with Anousha\, learning from the notes she gives you and your peers. You will need to prepare one scene. There will be opportunity at the beginning and the end of day for Q&A. \nThe event runs Saturday 6 April in Auckland.
URL:https://shownews.co.nz/event/casting-intensive-with-anousha-zarkesh-1-application-deadline/
CATEGORIES:Deadline
END:VEVENT
BEGIN:VEVENT
DTSTART;VALUE=DATE:20240321
DTEND;VALUE=DATE:20240322
DTSTAMP:20260424T221420
CREATED:20240221T233810Z
LAST-MODIFIED:20240221T233810Z
UID:15417-1710979200-1711065599@shownews.co.nz
SUMMARY:Specialty: campaign closes
DESCRIPTION:James Ladanyi’s Specialty – is a Wellington-set doco series about the city’s dozens of roasteries\, hundreds of cafes serving specialty coffee\, and thousands of people partaking in the ritual of daily consumption.  \nThis four-part documentary series will explore Wellington coffee genesis\, its history\, and its present-day culture.
URL:https://shownews.co.nz/event/specialty-campaign-closes/
CATEGORIES:Deadline
END:VEVENT
BEGIN:VEVENT
DTSTART;VALUE=DATE:20240321
DTEND;VALUE=DATE:20240322
DTSTAMP:20260424T221420
CREATED:20240314T004455Z
LAST-MODIFIED:20240314T004510Z
UID:16133-1710979200-1711065599@shownews.co.nz
SUMMARY:Casting Intensive with Anousha Zarkesh 2\, application deadline
DESCRIPTION:Equity Foundation NZ is thrilled to be bringing the renowned Australian casting director Anousha Zarkesh to Aotearoa for one weekend of work with Equity NZ members. \nIf you are selected (there are very limited spots) you will spend one day in an intimate setting with Anousha\, learning from the notes she gives you and your peers. You will need to prepare one scene. There will be opportunity at the beginning and the end of day for Q&A. \nThe event runs Sunday 7 April in Auckland.
URL:https://shownews.co.nz/event/casting-intensive-with-anousha-zarkesh-2-application-deadline/
CATEGORIES:Deadline
END:VEVENT
BEGIN:VEVENT
DTSTART;VALUE=DATE:20240320
DTEND;VALUE=DATE:20240325
DTSTAMP:20260424T221420
CREATED:20240314T012623Z
LAST-MODIFIED:20240314T012623Z
UID:16138-1710892800-1711324799@shownews.co.nz
SUMMARY:Maoriland Film Festival
DESCRIPTION:Each March the Indigenous world comes together in Ōtaki\, Aotearoa (New Zealand) to celebrate Indigenous screen storytelling at Māoriland Film Festival\, the largest Indigenous film festival in the Southern Hemisphere. \nLocated on New Zealand’s Kāpiti Coast\, Ōtaki is a vibrant seaside town where Māori culture and language thrives. Māoriland is celebrated for its manaakitanga and community spirit. It is a place where creatives come to heal.
URL:https://shownews.co.nz/event/maoriland-film-festival/
CATEGORIES:Festival
END:VEVENT
BEGIN:VEVENT
DTSTART;VALUE=DATE:20240319
DTEND;VALUE=DATE:20240322
DTSTAMP:20260424T221420
CREATED:20231011T013419Z
LAST-MODIFIED:20231011T013419Z
UID:11597-1710806400-1711065599@shownews.co.nz
SUMMARY:Screen Forever 2024
DESCRIPTION:Uniting the pillars of entertainment\, media and technology\, SCREEN FOREVER is one of the largest congregations of screen industry professionals in the Southern Hemisphere and attended by The Who’s Who in Australian screen business – the leading Australian and international industry practitioners involved in all aspects of producing\, creating\, writing\, directing\, distributing and financing screen content across film\, television\, games\, interactive and online.
URL:https://shownews.co.nz/event/screen-forever-2024/
CATEGORIES:Conference
ATTACH;FMTTYPE=image/jpeg:https://shownews.co.nz/wp-content/uploads/2023/10/Screenshot-2023-10-11-at-3.32.58-PM.jpg
END:VEVENT
BEGIN:VEVENT
DTSTART;VALUE=DATE:20240319
DTEND;VALUE=DATE:20240320
DTSTAMP:20260424T221420
CREATED:20240314T003016Z
LAST-MODIFIED:20240314T003016Z
UID:16118-1710806400-1710892799@shownews.co.nz
SUMMARY:Queer Producers Incubator\, application deadline
DESCRIPTION:The Queer Producers Incubator is a two-day intensive workshop taking place on Fri 9th and Sat 10th May in Tāmaki Makaurau. The workshop will support and upskill 5 emerging queer identifying producers who have at least one project in development. \nSessions from guest speakers will be tailored to the group and include the following topics: \n– Supporting a team through story development \n– Upskilling in pitching\, funding and financing \n– Creating safe spaces in development\, production\, and marketing. \nAfter the workshop\, the 5 participants will receive mentoring in the form of 2 x 1 hour Zoom sessions with a producer mentor\, to be completed by the end of June 2024. \nThe aim is to upskill queer producers\, offering tailored support and a network of peers as they progress further in their careers.
URL:https://shownews.co.nz/event/queer-producers-incubator-application-deadline-2/
CATEGORIES:Deadline
END:VEVENT
BEGIN:VEVENT
DTSTART;VALUE=DATE:20240319
DTEND;VALUE=DATE:20240320
DTSTAMP:20260424T221420
CREATED:20240304T233821Z
LAST-MODIFIED:20240304T234234Z
UID:15697-1710806400-1710892799@shownews.co.nz
SUMMARY:Queer Producers Incubator: application deadline
DESCRIPTION:The Queer Producers Incubator is a two-day intensive workshop taking place on Fri 10th and Sat 11th May in Tāmaki Makaurau. The workshop will support and upskill 5 emerging queer identifying producers who have at least one project in development. \nSessions from guest speakers will be tailored to the group and include the following topics: \n– Supporting a team through story development \n– Upskilling in pitching\, funding and financing \n– Creating safe spaces in development\, production\, and marketing. \nAfter the workshop\, the 5 participants will receive mentoring in the form of 2 x 1 hour Zoom sessions with a producer mentor\, to be completed by the end of June 2024. \nThe aim is to upskill queer producers\, offering tailored support and a network of peers as they progress further in their careers. \n  \nApplications close 19 March.
URL:https://shownews.co.nz/event/queer-producers-incubator-application-deadline/
CATEGORIES:Deadline
END:VEVENT
BEGIN:VEVENT
DTSTART;VALUE=DATE:20240318
DTEND;VALUE=DATE:20240516
DTSTAMP:20260424T221420
CREATED:20240314T121342Z
LAST-MODIFIED:20240314T121342Z
UID:16157-1710720000-1715817599@shownews.co.nz
SUMMARY:Vista 48Hours\, registration period
DESCRIPTION:To compete in the 48Hours you need to register a team in your local region. Teams can be any size. We’ve had solo operators and teams of over twenty. You can be an industry veteran or have never made a film before\, the competition is open to everyone. \nEarlybird registrations run March 18 – April 17 – $199 per team.\nFull registrations run April 18 – May 15 – $260 per team. \nThe shoot weekend is May 17 – 19.
URL:https://shownews.co.nz/event/vista-48hours-registration-period/
CATEGORIES:Misc
END:VEVENT
BEGIN:VEVENT
DTSTART;VALUE=DATE:20240318
DTEND;VALUE=DATE:20240319
DTSTAMP:20260424T221420
CREATED:20240304T235756Z
LAST-MODIFIED:20240304T235756Z
UID:15714-1710720000-1710806399@shownews.co.nz
SUMMARY:Beyond Improv\, Christchurch\, application deadline
DESCRIPTION:The word “improv” has come to define a style\, a tone\, a genre. Let’s move beyond that word and investigate the tools available to an actor looking to create something new\, whether the words are written down for them or not. This active\, fast-paced workshop is about acknowledging your creative agency and learning to “write” using tools specific to the actor: action\, games\, and the endless surprise of your scene partners. \nLed by actor\, director\, and teacher\, Jonathan Price \nWorkshop runs 24 March in Christchurch\nApplications Close 18 March
URL:https://shownews.co.nz/event/beyond-improv-christchurch-application-deadline/
CATEGORIES:Deadline
END:VEVENT
BEGIN:VEVENT
DTSTART;VALUE=DATE:20240318
DTEND;VALUE=DATE:20240319
DTSTAMP:20260424T221420
CREATED:20240304T235548Z
LAST-MODIFIED:20240304T235653Z
UID:15711-1710720000-1710806399@shownews.co.nz
SUMMARY:Beyond Improv\, Wellington\, application deadline
DESCRIPTION:The word “improv” has come to define a style\, a tone\, a genre. Let’s move beyond that word and investigate the tools available to an actor looking to create something new\, whether the words are written down for them or not. This active\, fast-paced workshop is about acknowledging your creative agency and learning to “write” using tools specific to the actor: action\, games\, and the endless surprise of your scene partners. \nLed by actor\, director\, and teacher\, Jonathan Price \nThe workshop runs 23 March in Wellington\nApplications Close 18 March \n 
URL:https://shownews.co.nz/event/beyond-improv-wellington-application-deadline/
CATEGORIES:Deadline
END:VEVENT
BEGIN:VEVENT
DTSTART;VALUE=DATE:20240318
DTEND;VALUE=DATE:20240319
DTSTAMP:20260424T221420
CREATED:20240213T231058Z
LAST-MODIFIED:20240213T231058Z
UID:15196-1710720000-1710806399@shownews.co.nz
SUMMARY:Southern Pilots – applications close
DESCRIPTION:Script to Screen\, in partnership with Film Otago Southland\, launches an exciting new development opportunity called Southern Pilots\, for Otago and Southland based screen creators. \nScript to Screen and Film Otago Southland are looking for new and emerging filmmakers with compelling\, bold series story ideas suitable for development and viable for future production. Southern Pilots offers both talent and project development for three teams. The teams will have one-on-one advisor sessions and hear from industry speakers over a three-day development workshop\, which aims to create outstanding pitch documents to present to potential producer partners and funders.  \n 
URL:https://shownews.co.nz/event/southern-pilots-applications-close/
CATEGORIES:Deadline
END:VEVENT
BEGIN:VEVENT
DTSTART;VALUE=DATE:20240316
DTEND;VALUE=DATE:20240317
DTSTAMP:20260424T221420
CREATED:20240304T234556Z
LAST-MODIFIED:20240304T234556Z
UID:15703-1710547200-1710633599@shownews.co.nz
SUMMARY:PISA Writers Room
DESCRIPTION:PISA’s Writers Room in Wellington will be led by accomplished academic and filmmaker Marina McCartney (Milk & Honey\, Vai\, My Life is Murder). \nThis Writer’s Room will be focusing on Short Films – Story Creation and Loglines. \nFree\, but registration required. \n 
URL:https://shownews.co.nz/event/pisa-writers-room/
CATEGORIES:Workshop
END:VEVENT
BEGIN:VEVENT
DTSTART;VALUE=DATE:20240315
DTEND;VALUE=DATE:20240317
DTSTAMP:20260424T221420
CREATED:20240221T233129Z
LAST-MODIFIED:20240221T235646Z
UID:15415-1710460800-1710633599@shownews.co.nz
SUMMARY:Wellington Animation Festival
DESCRIPTION:The Wellington International Animation Film Festival is brought to you by C.A.F.E\, teaming up with the Annecy International Animation Film Festival and the French Embassy of New Zealand\, and running at Wellington’s Roxy Cinema for two days of animated awesomeness! \nThe Wellington Animation Film Festival brings you the best new animated films from around the world. Whether you’re an adult or part of a family\, our carefully chosen programs offer something for everyone.
URL:https://shownews.co.nz/event/wellington-animation-festival/
CATEGORIES:Festival
END:VEVENT
BEGIN:VEVENT
DTSTART;TZID=Pacific/Auckland:20240314T080000
DTEND;TZID=Pacific/Auckland:20240314T170000
DTSTAMP:20260424T221420
CREATED:20240314T003328Z
LAST-MODIFIED:20240314T003328Z
UID:16123-1710403200-1710435600@shownews.co.nz
SUMMARY:Short Film Otago\, application deadline
DESCRIPTION:Short Film Otago provides script-to-screen funding and development support for emerging Otago based filmmakers and screenwriters. \nTo make an application\, go here.
URL:https://shownews.co.nz/event/short-film-otago-application-deadline/
CATEGORIES:Deadline
END:VEVENT
BEGIN:VEVENT
DTSTART;TZID=Pacific/Auckland:20240312T183000
DTEND;TZID=Pacific/Auckland:20240312T203000
DTSTAMP:20260424T221420
CREATED:20240221T234647Z
LAST-MODIFIED:20240221T234647Z
UID:15419-1710268200-1710275400@shownews.co.nz
SUMMARY:The Director-Cinematographer Relationship
DESCRIPTION:Join us in Auckland for a conversation about the inner workings of the director-cinematographer relationship. \nVenezuelan cinematographer and director based in Los Angeles Carlos Gonzalez is in New Zealand to film Zombies 4: Day and Night and will present about his experience and viewpoint on the director-cinematographer relationship. \nSome of the topics covered will include how the cinematographer can best help a director in the episodic environment\, how can the director successfully integrate into an ongoing production\, how to work with the cinematographer for that purpose and we will also discuss the director/cinematographer relationship in television compared to on a feature film. \nRuns at Department of Post\, Auckland
URL:https://shownews.co.nz/event/the-director-cinematographer-relationship/
CATEGORIES:Industry Talk,Networking
END:VEVENT
BEGIN:VEVENT
DTSTART;TZID=Pacific/Auckland:20240312T183000
DTEND;TZID=Pacific/Auckland:20240312T203000
DTSTAMP:20260424T221420
CREATED:20240208T003938Z
LAST-MODIFIED:20240208T003938Z
UID:15074-1710268200-1710275400@shownews.co.nz
SUMMARY:Kinetic
DESCRIPTION:A new series of events for the MDGA\, Kinetic looks to give experienced motion designers the chance to share their knowledge and process with the community. Our 3 speakers from across the spectrum of motion disciplines will share their insights\, experiences\, and the secrets behind their captivating work. We’ll explore the latest trends and innovations in motion design\, and you’ll have the chance to delve into some awesome motion design projects. \nThe event runs at Studio One\, Ponsonby Road\, Auckland
URL:https://shownews.co.nz/event/kinetic/
CATEGORIES:Industry Talk,Networking
END:VEVENT
BEGIN:VEVENT
DTSTART;VALUE=DATE:20240310
DTEND;VALUE=DATE:20240311
DTSTAMP:20260424T221420
CREATED:20240213T224730Z
LAST-MODIFIED:20240213T224730Z
UID:15188-1710028800-1710115199@shownews.co.nz
SUMMARY:Don McGlashan\, A Life in Music\, campaign closing
DESCRIPTION:Shirley Horrocks is raising funds to make the first documentary feature about an iconic Kiwi songwriter\, Don McGlashan\, A Life in Music. Over a brilliant 40 year career\, Don has won many accolades for his song writing\, including winning the prestigious APRA Silver Scrolls twice\, and more recently being inducted into the NZ Music Hall of Fame.  \nDon has scored more than a dozen feature films and five TV series including Jane Campion’s An Angel At My Table\, and most recently has been collaborating again with his long-time friend and creative partner Harry Sinclair (The Front Lawn) on the BAFTA-nominated hit NZ kids series Kiri & Lou. \n 
URL:https://shownews.co.nz/event/don-mcglashan-a-life-in-music-campaign-closing/
CATEGORIES:Deadline
END:VEVENT
BEGIN:VEVENT
DTSTART;VALUE=DATE:20240302
DTEND;VALUE=DATE:20240303
DTSTAMP:20260424T221420
CREATED:20240118T015216Z
LAST-MODIFIED:20240118T015216Z
UID:14682-1709337600-1709423999@shownews.co.nz
SUMMARY:Pitchfest - submission deadline
DESCRIPTION:Pitchfest is hosted by Wellington’s Floating Rock Studio. \nIn 2022\, they received an investment by Hillfarrance and are using that money to invest in YOU\, the creator\, of your upcoming animated film or TV series. \nWe’re here to support you and your vision with $100\,000 to build a pitch\, then present to buyers!
URL:https://shownews.co.nz/event/pitchfest-submission-deadline/
CATEGORIES:Deadline
END:VEVENT
BEGIN:VEVENT
DTSTART;VALUE=DATE:20240301
DTEND;VALUE=DATE:20240302
DTSTAMP:20260424T221420
CREATED:20240213T224405Z
LAST-MODIFIED:20240213T224405Z
UID:15187-1709251200-1709337599@shownews.co.nz
SUMMARY:The House Within\, campaign closes
DESCRIPTION:Joshua Prendeville’s The House Within is a feature length documentary film on the internationally celebrated New Zealand writer Fiona Kidman. It examines the way in which life and fiction collide and how\, with time\, they become inescapably braided together. \nThe film paints an intimate portrait of Fiona’s fascinating and often tumultuous life. It probes the inner world of a truly maverick writer who has overcome innumerable obstacles to establish her voice\, and place\, in the world of literature on a global scale. \n 
URL:https://shownews.co.nz/event/the-house-within-campaign-closes/
CATEGORIES:Deadline
END:VEVENT
BEGIN:VEVENT
DTSTART;TZID=Pacific/Auckland:20240229T183000
DTEND;TZID=Pacific/Auckland:20240229T203000
DTSTAMP:20260424T221420
CREATED:20240221T234338Z
LAST-MODIFIED:20240221T234338Z
UID:15420-1709231400-1709238600@shownews.co.nz
SUMMARY:Pre-Production Processes
DESCRIPTION:A casual show-and-tell event with acclaimed director of photography\, Stefan Duscio\, where you can ask questions and learn about various pre-production approaches. \nIn New Zealand to shoot Wolfman\, Australian cinematographer Stefan will share his pre-production processes across projects such as The Invisible Man\, The Dry and Shantaram.  \nStefan will share invaluable insights and comparisons of his varied approaches to different scenes\, breaking down how he created certain sequences and walking us through them using clips\, diagrams\, and behind-the-scenes images. \nRuns at Department of Post\, Auckland
URL:https://shownews.co.nz/event/pre-production-processes/
CATEGORIES:Industry Talk,Networking
END:VEVENT
BEGIN:VEVENT
DTSTART;VALUE=DATE:20240229
DTEND;VALUE=DATE:20240301
DTSTAMP:20260424T221420
CREATED:20231011T182949Z
LAST-MODIFIED:20231011T182949Z
UID:11654-1709164800-1709251199@shownews.co.nz
SUMMARY:WIFT Awards
DESCRIPTION:The WIFT NZ Awards is an event designed to celebrate the achievements of women in the industry\, provide a special networking opportunity\, and act as a source of fundraising for the ongoing work of the organisation. It has become renowned for quality\, affordability and great celebration and fun.
URL:https://shownews.co.nz/event/wift-awards/
CATEGORIES:Awards
END:VEVENT
END:VCALENDAR