BEGIN:VCALENDAR
VERSION:2.0
PRODID:-//ShowNews - ECPv6.15.20//NONSGML v1.0//EN
CALSCALE:GREGORIAN
METHOD:PUBLISH
X-ORIGINAL-URL:https://shownews.co.nz
X-WR-CALDESC:Events for ShowNews
REFRESH-INTERVAL;VALUE=DURATION:PT1H
X-Robots-Tag:noindex
X-PUBLISHED-TTL:PT1H
BEGIN:VTIMEZONE
TZID:Pacific/Auckland
BEGIN:STANDARD
TZOFFSETFROM:+1300
TZOFFSETTO:+1200
TZNAME:NZST
DTSTART:20250405T140000
END:STANDARD
BEGIN:DAYLIGHT
TZOFFSETFROM:+1200
TZOFFSETTO:+1300
TZNAME:NZDT
DTSTART:20250927T140000
END:DAYLIGHT
BEGIN:STANDARD
TZOFFSETFROM:+1300
TZOFFSETTO:+1200
TZNAME:NZST
DTSTART:20260404T140000
END:STANDARD
BEGIN:DAYLIGHT
TZOFFSETFROM:+1200
TZOFFSETTO:+1300
TZNAME:NZDT
DTSTART:20260926T140000
END:DAYLIGHT
BEGIN:STANDARD
TZOFFSETFROM:+1300
TZOFFSETTO:+1200
TZNAME:NZST
DTSTART:20270403T140000
END:STANDARD
BEGIN:DAYLIGHT
TZOFFSETFROM:+1200
TZOFFSETTO:+1300
TZNAME:NZDT
DTSTART:20270925T140000
END:DAYLIGHT
END:VTIMEZONE
BEGIN:VEVENT
DTSTART;VALUE=DATE:20260116
DTEND;VALUE=DATE:20260117
DTSTAMP:20260423T123719
CREATED:20251204T225411Z
LAST-MODIFIED:20251204T232701Z
UID:29043-1768521600-1768607999@shownews.co.nz
SUMMARY:Doc Edge Pitch 2026 - Early bird Submission Deadline
DESCRIPTION:Submissions are now open for Doc Edge Pitch 2026 — New Zealand’s premier platform for developing and showcasing new documentary projects. \nDoc Edge is seeking compelling factual projects (shorts\, features\, and series) in development\, production or rough-cut stage. Selected teams will pitch to international and local decision makers and receive mentoring\, industry access\, and networking opportunities during the festival. \nOpen to both NZ and international filmmakers.\n📅 Early Bird deadline: 16 January 2026\n📍 Pitching takes place during Doc Edge Festival 2026\n🔗 Full details & application: https://docedge.nz/programme/industry/pitch/
URL:https://shownews.co.nz/event/doc-edge-pitch-early-bird-submission-deadline/
CATEGORIES:Deadline
ATTACH;FMTTYPE=image/png:https://shownews.co.nz/wp-content/uploads/2025/12/DOC-EDGE-PITCH-2026-1-1.png
ORGANIZER;CN="Doc Edge":MAILTO:info@docedge.nz
END:VEVENT
END:VCALENDAR