BEGIN:VCALENDAR
VERSION:2.0
PRODID:-//ShowNews - ECPv6.15.20//NONSGML v1.0//EN
CALSCALE:GREGORIAN
METHOD:PUBLISH
X-WR-CALNAME:ShowNews
X-ORIGINAL-URL:https://shownews.co.nz
X-WR-CALDESC:Events for ShowNews
REFRESH-INTERVAL;VALUE=DURATION:PT1H
X-Robots-Tag:noindex
X-PUBLISHED-TTL:PT1H
BEGIN:VTIMEZONE
TZID:Pacific/Auckland
BEGIN:STANDARD
TZOFFSETFROM:+1300
TZOFFSETTO:+1200
TZNAME:NZST
DTSTART:20240406T140000
END:STANDARD
BEGIN:DAYLIGHT
TZOFFSETFROM:+1200
TZOFFSETTO:+1300
TZNAME:NZDT
DTSTART:20240928T140000
END:DAYLIGHT
BEGIN:STANDARD
TZOFFSETFROM:+1300
TZOFFSETTO:+1200
TZNAME:NZST
DTSTART:20250405T140000
END:STANDARD
BEGIN:DAYLIGHT
TZOFFSETFROM:+1200
TZOFFSETTO:+1300
TZNAME:NZDT
DTSTART:20250927T140000
END:DAYLIGHT
BEGIN:STANDARD
TZOFFSETFROM:+1300
TZOFFSETTO:+1200
TZNAME:NZST
DTSTART:20260404T140000
END:STANDARD
BEGIN:DAYLIGHT
TZOFFSETFROM:+1200
TZOFFSETTO:+1300
TZNAME:NZDT
DTSTART:20260926T140000
END:DAYLIGHT
END:VTIMEZONE
BEGIN:VEVENT
DTSTART;VALUE=DATE:20250731
DTEND;VALUE=DATE:20250811
DTSTAMP:20260424T234515
CREATED:20250714T220545Z
LAST-MODIFIED:20250714T220545Z
UID:26445-1753920000-1754870399@shownews.co.nz
SUMMARY:NZ International Film Festival
DESCRIPTION:The Biggest Films of 2025 — Your city’s biggest film event is here — sessions are filling. Book your picks today. See the best films of 2025 right here in Auckland. Tickets selling fast — book now.
URL:https://shownews.co.nz/event/nz-international-film-festival/
CATEGORIES:Festival
ATTACH;FMTTYPE=image/png:https://shownews.co.nz/wp-content/uploads/2025/07/images-1.png
END:VEVENT
BEGIN:VEVENT
DTSTART;TZID=Pacific/Auckland:20250807T080000
DTEND;TZID=Pacific/Auckland:20250810T170000
DTSTAMP:20260424T234515
CREATED:20250623T230631Z
LAST-MODIFIED:20250623T230631Z
UID:26036-1754553600-1754845200@shownews.co.nz
SUMMARY:MIFF - 37° South Market
DESCRIPTION:A selective event for producers to pitch their script-stage screen projects to potential financiers. \nMIFF 37°South Market also includes screenings for buyers\, modules for publishers and IP owners pitching their manuscripts/creative assets to producers for potential screen adaptations\, writers pitching their screenplays to producers\, and panel discussions.  \nMIFF 37ºSouth Market is the exclusive South Pacific partner of London’s Production Finance Market (PFM).
URL:https://shownews.co.nz/event/miff-37-south-market/
LOCATION:Melbourne
ATTACH;FMTTYPE=image/jpeg:https://shownews.co.nz/wp-content/uploads/2025/06/1280-x-720-3-copy-4.jpg
END:VEVENT
END:VCALENDAR