BEGIN:VCALENDAR
VERSION:2.0
PRODID:-//ShowNews - ECPv6.15.20//NONSGML v1.0//EN
CALSCALE:GREGORIAN
METHOD:PUBLISH
X-WR-CALNAME:ShowNews
X-ORIGINAL-URL:https://shownews.co.nz
X-WR-CALDESC:Events for ShowNews
REFRESH-INTERVAL;VALUE=DURATION:PT1H
X-Robots-Tag:noindex
X-PUBLISHED-TTL:PT1H
BEGIN:VTIMEZONE
TZID:Pacific/Auckland
BEGIN:STANDARD
TZOFFSETFROM:+1300
TZOFFSETTO:+1200
TZNAME:NZST
DTSTART:20240406T140000
END:STANDARD
BEGIN:DAYLIGHT
TZOFFSETFROM:+1200
TZOFFSETTO:+1300
TZNAME:NZDT
DTSTART:20240928T140000
END:DAYLIGHT
BEGIN:STANDARD
TZOFFSETFROM:+1300
TZOFFSETTO:+1200
TZNAME:NZST
DTSTART:20250405T140000
END:STANDARD
BEGIN:DAYLIGHT
TZOFFSETFROM:+1200
TZOFFSETTO:+1300
TZNAME:NZDT
DTSTART:20250927T140000
END:DAYLIGHT
BEGIN:STANDARD
TZOFFSETFROM:+1300
TZOFFSETTO:+1200
TZNAME:NZST
DTSTART:20260404T140000
END:STANDARD
BEGIN:DAYLIGHT
TZOFFSETFROM:+1200
TZOFFSETTO:+1300
TZNAME:NZDT
DTSTART:20260926T140000
END:DAYLIGHT
END:VTIMEZONE
BEGIN:VEVENT
DTSTART;VALUE=DATE:20250716
DTEND;VALUE=DATE:20250728
DTSTAMP:20260425T005940
CREATED:20250407T051333Z
LAST-MODIFIED:20250407T051347Z
UID:24511-1752624000-1753660799@shownews.co.nz
SUMMARY:Christchurch Doc Edge Festival 2025
DESCRIPTION:Doc Edge Festival 2025 – Life Unscripted\nCelebrating 20 Years of Documentary Excellence \nDoc Edge\, New Zealand’s national documentary organisation\, marks its 20th anniversary with an exciting festival from 25 June – 24 August 2025. \nAs an Oscar®-qualifying festival\, Doc Edge is a global platform for bold\, diverse\, and impactful storytelling — featuring films\, immersive experiences\, industry events\, and more. \n📍 Festival Dates & Location: \nChristchurch: 16 – 27 July \nLumiere Cinemas\nTūranga\nChristchurch Art Gallery\nUniversity of Canterbury\nVirtual Cinema (Nationwide): 28 July – 24 August \n✨ Festival Highlights: \n– A curated selection of local & international documentaries \n– Doc Edge Awards honouring excellence in storytelling \n– Schools Programme for Year 5 to tertiary students \n– Immersive Exhibition showcasing cutting-edge digital work \n– Industry Events: Forum\, Pitch – Wayfinding\, and Market (Auckland only) \nThis milestone year also celebrates the filmmakers\, audiences\, and partners who have shaped Doc Edge into a cultural cornerstone for Aotearoa and the Asia Pacific region. \nJoin us in person or online for a powerful journey through documentary — connecting\, reflecting\, and celebrating the stories that matter. \nhttps://docedge.nz/festival-2025/ \n#docedge #lifeunscripted
URL:https://shownews.co.nz/event/christchurch-doc-edge-festival-2025/
LOCATION:Lumiere Cinemas\, 26 Rolleston Avenue\, Christchurch Central City\, 8013\, New Zealand
CATEGORIES:Festival,Screening
ATTACH;FMTTYPE=image/png:https://shownews.co.nz/wp-content/uploads/2025/04/Dates-Announcments-2-1-2.png
ORGANIZER;CN="Doc Edge":MAILTO:info@docedge.nz
END:VEVENT
BEGIN:VEVENT
DTSTART;VALUE=DATE:20250716
DTEND;VALUE=DATE:20250728
DTSTAMP:20260425T005940
CREATED:20250407T051652Z
LAST-MODIFIED:20250407T051652Z
UID:24518-1752624000-1753660799@shownews.co.nz
SUMMARY:Wellington Doc Edge Festival 2025
DESCRIPTION:Doc Edge Festival 2025 – Life Unscripted\nCelebrating 20 Years of Documentary Excellence \nDoc Edge\, New Zealand’s national documentary organisation\, marks its 20th anniversary with an exciting festival from 25 June – 24 August 2025. \nAs an Oscar®-qualifying festival\, Doc Edge is a global platform for bold\, diverse\, and impactful storytelling — featuring films\, immersive experiences\, industry events\, and more. \n📍 Festival Dates & Location: \nWellington: 16 – 27 July \nThe Roxy Cinema\nVirtual Cinema (Nationwide): 28 July – 24 August \n✨ Festival Highlights: \n– A curated selection of local & international documentaries \n– Doc Edge Awards honouring excellence in storytelling \n– Schools Programme for Year 5 to tertiary students \n– Immersive Exhibition showcasing cutting-edge digital work \n– Industry Events: Forum\, Pitch – Wayfinding\, and Market (Auckland only) \nThis milestone year also celebrates the filmmakers\, audiences\, and partners who have shaped Doc Edge into a cultural cornerstone for Aotearoa and the Asia Pacific region. \nJoin us in person or online for a powerful journey through documentary — connecting\, reflecting\, and celebrating the stories that matter. \nhttps://docedge.nz/festival-2025/ \n#docedge #lifeunscripted
URL:https://shownews.co.nz/event/wellington-doc-edge-festival-2025/
LOCATION:The Roxy Cinema\, 5 Park Road\, Miramar\, Wellington\, 6022
CATEGORIES:Festival,Training
ATTACH;FMTTYPE=image/png:https://shownews.co.nz/wp-content/uploads/2025/04/Dates-Announcments-2-1-3.png
ORGANIZER;CN="Doc Edge":MAILTO:info@docedge.nz
END:VEVENT
BEGIN:VEVENT
DTSTART;TZID=Pacific/Auckland:20250718T180000
DTEND;TZID=Pacific/Auckland:20250718T203000
DTSTAMP:20260425T005940
CREATED:20250704T000009Z
LAST-MODIFIED:20250704T000009Z
UID:26269-1752861600-1752870600@shownews.co.nz
SUMMARY:Outrageous Fortune – In Conversation with the Creators: Rachel Lang & James Griffin
DESCRIPTION:Celebrate 20 Years of Outrageous Fortune – With Its Creators!\nBefore Cheryl ruled the family and Van stole our hearts\, two brilliant minds brought the Wests to life: \nRachel Lang & James Griffin.\nJoin us for a one-night-only live conversation as the writer’s share behind-the-scenes stories\, iconic clips from the show\, wild moments\, and the writing magic that made Outrageous Fortune a cultural phenomenon. \nWhether you’re a diehard fan\, a writer\, or just love great Kiwi TV – this night’s for you. \nJoin us in the heart of West Auckland at the Kōmanawa Theatre\, Te Puna Creative Hub\, Henderson. \nDetails: \n🗓️ Friday 18 July 2025\n🕕 Doors open 6pm – drinks and nibbles included in your ticket price\n🎤 6.30pm–8.30pm – In conversation with Rachel & James\n📍 Kōmanawa Theatre – Te Puna Creative Hub\, 8/14 Henderson Valley Road\, Te Kōpua Henderson\, Tāmaki Makaurau Auckland\n👗 Prize for Best Dressed… bring out your best leopard print & mullet! \nTickets:\n🎟️ $20 – NZWG Members\n🎟️ $30 – General Admission\n🔞 18+ Event | Open to the Public \nSpots are limited\, book now to avoid heartbreak!
URL:https://shownews.co.nz/event/outrageous-fortune-in-conversation-with-the-creators-rachel-lang-james-griffin/
LOCATION:Kōmanawa Theatre – Te Puna Creative Hub\, 8/14 Henderson Valley Road\, Te Kōpua Henderson\, Auckland
CATEGORIES:Industry Talk,Networking
ATTACH;FMTTYPE=image/png:https://shownews.co.nz/wp-content/uploads/2025/07/Socials-OF-In-Conversation-With-4.png
END:VEVENT
END:VCALENDAR